BEGIN:VCALENDAR
VERSION:2.0
PRODID:-//wp-events-plugin.com//7.2.3.1//EN
TZID:Europe/Paris
X-WR-TIMEZONE:Europe/Paris
BEGIN:VEVENT
UID:6216@i2m.univ-amu.fr
DTSTART;TZID=Europe/Paris:20211213T150000
DTEND;TZID=Europe/Paris:20211213T160000
DTSTAMP:20241120T200937Z
URL:https://www.i2m.univ-amu.fr/evenements/a-data-parasite-story-from-inte
 gration-of-omic-data-to-the-identification-of-regulatory-regions-transcrip
 tion/
SUMMARY:Benoit Ballester (TAGC\, Aix-Marseille Université): A data parasit
 e story : from integration of omic data to the identification of regulator
 y regions transcription
DESCRIPTION:Benoit Ballester: In the past 8 years we have developed and mai
 ntained the ReMap database which consists in the large scale integration o
 f ChIP-seq data. Using a similar approach\, we are investigating whether s
 uch large scale integration could help identify the activity of regulatory
  regions. By investigating almost a thousand of RNA Polymerase 2 ChIP-seq 
 datasets we observe a landscape of intergenic active regulatory regions bi
 nding RNA Pol2. To address whether these RNA Polymerase 2 initiate transcr
 iption at such intergenic regions\, we processed the 11\,000 TCGA gene exp
 ression individuals. We observe cancer specific non-coding transcription\,
  which are still being studied\, as this is an on-going project.\n\nJoin Z
 oom Meeting\nhttps://us02web.zoom.us/j/243112061\nMeeting ID: 243 112 061\
 n\n&nbsp\;\n\n&nbsp\;
ATTACH;FMTTYPE=image/jpeg:https://www.i2m.univ-amu.fr/wp-content/uploads/2
 021/12/Benoit_Ballester.jpg
CATEGORIES:Séminaire,MABioS,Virtual event
END:VEVENT
BEGIN:VTIMEZONE
TZID:Europe/Paris
X-LIC-LOCATION:Europe/Paris
BEGIN:STANDARD
DTSTART:20211031T020000
TZOFFSETFROM:+0200
TZOFFSETTO:+0100
TZNAME:CET
END:STANDARD
END:VTIMEZONE
END:VCALENDAR