BEGIN:VCALENDAR
VERSION:2.0
PRODID:-//wp-events-plugin.com//7.2.3.1//EN
TZID:Europe/Paris
X-WR-TIMEZONE:Europe/Paris
BEGIN:VEVENT
UID:9080@i2m.univ-amu.fr
DTSTART;TZID=Europe/Paris:20260505T110000
DTEND;TZID=Europe/Paris:20260505T120000
DTSTAMP:20260424T082411Z
URL:https://www.i2m.univ-amu.fr/evenements/a-propos-dune-identite-sur-les-
 mots/
SUMMARY:Srečko Brlek (UQAM\, Canada): À propos d'une identité sur les mo
 ts
DESCRIPTION:Srečko Brlek: Il existe une histoire abondante sur la complexi
 té des mots\, finis et infinis\, reposant sur diverses mesures basées su
 r l’énumération de facteurs ayant une certaine propriété : tous fact
 eurs\, palindromes\, pseudo-palindromes\, carrés\, répétitions\, etc 
 … . Une identité aussi remarquable que triviale permet\, pour chaque mo
 t fini w sur un alphabet fini\, de lier la complexité totale C(w) avec d
 ’autres mesures de complexité. J’en donnerai une description historiq
 ue.\n\n&nbsp\;
CATEGORIES:Séminaire,Ernest
LOCATION:I2M Luminy - TPR2\, Salle de Séminaire 304-306 (3ème étage)\, 1
 63 Avenue de Luminy\, Marseille\, 13009\, France
X-APPLE-STRUCTURED-LOCATION;VALUE=URI;X-ADDRESS=163 Avenue de Luminy\, Mars
 eille\, 13009\, France;X-APPLE-RADIUS=100;X-TITLE=I2M Luminy - TPR2\, Sall
 e de Séminaire 304-306 (3ème étage):geo:0,0
END:VEVENT
BEGIN:VTIMEZONE
TZID:Europe/Paris
X-LIC-LOCATION:Europe/Paris
BEGIN:DAYLIGHT
DTSTART:20260329T030000
TZOFFSETFROM:+0100
TZOFFSETTO:+0200
TZNAME:CEST
END:DAYLIGHT
END:VTIMEZONE
END:VCALENDAR