BEGIN:VCALENDAR
VERSION:2.0
PRODID:-//wp-events-plugin.com//7.2.3.1//EN
TZID:Europe/Paris
X-WR-TIMEZONE:Europe/Paris
BEGIN:VEVENT
UID:7824@i2m.univ-amu.fr
DTSTART;TZID=Europe/Paris:20160508T000000
DTEND;TZID=Europe/Paris:20160514T000000
DTSTAMP:20241120T204844Z
URL:https://www.i2m.univ-amu.fr/evenements/algebra-geometry-and-topology-o
 f-singularities/
SUMMARY:Workshop (Galatasaray University\, Turkey): Algebra\, Geometry and 
 Topology of Singularities
DESCRIPTION:Workshop: This is an international workshop intending to give a
  panorama on Singularity Theory and bring together the specialists and the
  young researchers on the subject. The talks will be focused on the curren
 t results of the different aspects of the Singularities\, such as the alge
 braic\, geometric and topological studies.\n-\n\nSite web du workshop AGTS
  2016\n-\n-\nORGANIZING COMMITTEE\n- Emel Bilgin (METU-Northern Cyprus)\n-
  Jose Luis Cisneros (UNAM-Unidad Cuernavaca)\n- Serap Gürer (Galatasaray 
 University)\n- Özer Öztürk (Mimar Sinan University)\n- Camille Plenat (
 University of Aix-Marseille)\n- Serge Randriambololona (Galatasaray Univer
 sity)\n- Meral Tosun (Galatasaray University)\n- Zafeirakis Zafeirakopoulo
 s (Galatasaray University)\n-
ATTACH;FMTTYPE=image/jpeg:https://www.i2m.univ-amu.fr/wp-content/uploads/2
 016/05/image_agt-resolution_des_singularites_via_le_probleme_des_arcs_de_n
 ash-plenat.jpg
CATEGORIES:Manifestation scientifique,Workshop
END:VEVENT
BEGIN:VTIMEZONE
TZID:Europe/Paris
X-LIC-LOCATION:Europe/Paris
BEGIN:DAYLIGHT
DTSTART:20160327T030000
TZOFFSETFROM:+0100
TZOFFSETTO:+0200
TZNAME:CEST
END:DAYLIGHT
END:VTIMEZONE
END:VCALENDAR