BEGIN:VCALENDAR
VERSION:2.0
PRODID:-//wp-events-plugin.com//7.2.3.1//EN
TZID:Europe/Paris
X-WR-TIMEZONE:Europe/Paris
BEGIN:VEVENT
UID:7955@i2m.univ-amu.fr
DTSTART;TZID=Europe/Paris:20151202T153000
DTEND;TZID=Europe/Paris:20151202T170000
DTSTAMP:20241210T140610Z
URL:https://www.i2m.univ-amu.fr/evenements/analyse-matricielle-inegalites-
 pour-des-fonctions-rationnelles-interpolation-une-approche-modele-hdr-rach
 id-zarouf/
SUMMARY:Rachid Zarouf (I2M\, Aix-Marseille Université): Analyse matriciell
 e\, inégalités pour des fonctions rationnelles\, Interpolation : une app
 roche modèle
DESCRIPTION:Rachid Zarouf: Matrix analysis\, inequalities for rational func
 tions\, Interpolation: a model approach\n
ATTACH;FMTTYPE=image/jpeg:https://www.i2m.univ-amu.fr/wp-content/uploads/2
 020/01/Rachid_Zarouf.jpg
CATEGORIES:Soutenance d'HdR,AGT
END:VEVENT
BEGIN:VTIMEZONE
TZID:Europe/Paris
X-LIC-LOCATION:Europe/Paris
BEGIN:STANDARD
DTSTART:20151025T020000
TZOFFSETFROM:+0200
TZOFFSETTO:+0100
TZNAME:CET
END:STANDARD
END:VTIMEZONE
END:VCALENDAR