BEGIN:VCALENDAR
VERSION:2.0
PRODID:-//wp-events-plugin.com//7.2.3.1//EN
TZID:Europe/Paris
X-WR-TIMEZONE:Europe/Paris
BEGIN:VEVENT
UID:3707@i2m.univ-amu.fr
DTSTART;TZID=Europe/Paris:20210316T110000
DTEND;TZID=Europe/Paris:20210316T120000
DTSTAMP:20210225T183438Z
URL:https://www.i2m.univ-amu.fr/evenements/antonio-fernandez-university-of
 -bath-tba/
SUMMARY: (...): Antonio FERNANDEZ - University of Bath - L'équation de Sch
 rödinger non-linéaire dans le demi-espace.
DESCRIPTION:: Nous considérons l'équation de Schrödinger (stationnaire
 ) non-linéaire dans le demi-espace avec des conditions au bord du type D
 irichlet non-homogènes. Nous analysons l'existence\, la non-existence et 
 la multiplicité de solutions bornées\, régulières et positives. Nous m
 ontrons que l'existence et la multiplicité dépendent de manière décisi
 ve de la valeur au bord et aussi de la dimension. Le séminaire est basé 
 sur un travail en collaboration avec Tobias Weth.
CATEGORIES:Séminaire,Analyse Appliquée
END:VEVENT
BEGIN:VTIMEZONE
TZID:Europe/Paris
X-LIC-LOCATION:Europe/Paris
BEGIN:STANDARD
DTSTART:20201025T020000
TZOFFSETFROM:+0200
TZOFFSETTO:+0100
TZNAME:CET
END:STANDARD
END:VTIMEZONE
END:VCALENDAR