BEGIN:VCALENDAR
VERSION:2.0
PRODID:-//wp-events-plugin.com//7.2.3.1//EN
TZID:Europe/Paris
X-WR-TIMEZONE:Europe/Paris
BEGIN:VEVENT
UID:2394@i2m.univ-amu.fr
DTSTART;TZID=Europe/Paris:20180619T110000
DTEND;TZID=Europe/Paris:20180619T120000
DTSTAMP:20180604T090000Z
URL:https://www.i2m.univ-amu.fr/evenements/application-pseudo-harmonique-e
 t-espace-de-twisteurs/
SUMMARY: (...): Application (pseudo)-harmonique et espace de twisteurs
DESCRIPTION:: L'espace des twisteurs au-dessus d'une variété riemannienne
  admet une structure presque complexe naturelle J_1 qui est intégrable po
 ur des métriques convenables.En 1985\, Eells et Salamon ont montré que l
 'espace des twisteurs admettait une autre structure presque complexe J_2\,
  obtenue en renversant la structure complexe sur les fibres. Bien que jama
 is jamais intégrable\, cette structure presque complexe joue un rôle ina
 ttendu. En effet une application J_2 holomorphe d'une variété complexe 
 à valeurs dans l'espace des twisteurs se projette toujours en une applica
 tion harmonique.http://www.lmba-math.fr/annuaires/fiche.html?nom=deschamps
CATEGORIES:Séminaire,Géométrie Complexe
END:VEVENT
BEGIN:VTIMEZONE
TZID:Europe/Paris
X-LIC-LOCATION:Europe/Paris
BEGIN:DAYLIGHT
DTSTART:20180325T030000
TZOFFSETFROM:+0100
TZOFFSETTO:+0200
TZNAME:CEST
END:DAYLIGHT
END:VTIMEZONE
END:VCALENDAR