BEGIN:VCALENDAR
VERSION:2.0
PRODID:-//wp-events-plugin.com//7.2.3.1//EN
TZID:Europe/Paris
X-WR-TIMEZONE:Europe/Paris
BEGIN:VEVENT
UID:7047@i2m.univ-amu.fr
DTSTART;TZID=Europe/Paris:20190513T140000
DTEND;TZID=Europe/Paris:20190513T150000
DTSTAMP:20241120T202656Z
URL:https://www.i2m.univ-amu.fr/evenements/bounded-cohomology-and-flat-bun
 dles/
SUMMARY:Christophe Pittet (I2M\, Aix-Marseille Université): Bounded cohomo
 logy and flat bundles
DESCRIPTION:Christophe Pittet: Applying Hironaka resolution of singularitie
 s\, Gromov proved in 1982 that all characteristic classes of algebraic gro
 ups defined over the reals are bounded. We propose a more down-to-earth ap
 proach of this result. With the help of the stable commutator norm\, we ch
 aracterize Lie groups with all characteristic classes bounded. This is joi
 ned work with Chatterji\, Cornulier\, Mislin.\n\n\n
ATTACH;FMTTYPE=image/jpeg:https://www.i2m.univ-amu.fr/wp-content/uploads/2
 020/01/Christophe_Pittet.jpg
CATEGORIES:Séminaire,Dynamique et Topologie
END:VEVENT
BEGIN:VTIMEZONE
TZID:Europe/Paris
X-LIC-LOCATION:Europe/Paris
BEGIN:DAYLIGHT
DTSTART:20190331T030000
TZOFFSETFROM:+0100
TZOFFSETTO:+0200
TZNAME:CEST
END:DAYLIGHT
END:VTIMEZONE
END:VCALENDAR