BEGIN:VCALENDAR
VERSION:2.0
PRODID:-//wp-events-plugin.com//7.2.3.1//EN
TZID:Europe/Paris
X-WR-TIMEZONE:Europe/Paris
BEGIN:VEVENT
UID:8378@i2m.univ-amu.fr
DTSTART;TZID=Europe/Paris:20140512T111500
DTEND;TZID=Europe/Paris:20140512T121500
DTSTAMP:20241120T210354Z
URL:https://www.i2m.univ-amu.fr/evenements/bounded-extremal-problems-with-
 interpolation-constraints-in-hardy-space/
SUMMARY:Dmitry Ponomarev (INRIA Nice): Bounded extremal problems with inter
 polation constraints in Hardy space
DESCRIPTION:Dmitry Ponomarev: https://hal.archives-ouvertes.fr/hal-00938491
 v1\n\n&nbsp\;
ATTACH;FMTTYPE=image/jpeg:https://www.i2m.univ-amu.fr/wp-content/uploads/2
 021/04/Dmitry_Ponomarev.jpg
CATEGORIES:Séminaire,Analyse et Géométrie
END:VEVENT
BEGIN:VTIMEZONE
TZID:Europe/Paris
X-LIC-LOCATION:Europe/Paris
BEGIN:DAYLIGHT
DTSTART:20140330T030000
TZOFFSETFROM:+0100
TZOFFSETTO:+0200
TZNAME:CEST
END:DAYLIGHT
END:VTIMEZONE
END:VCALENDAR