BEGIN:VCALENDAR
VERSION:2.0
PRODID:-//wp-events-plugin.com//7.2.3.1//EN
TZID:Europe/Paris
X-WR-TIMEZONE:Europe/Paris
BEGIN:VEVENT
UID:5498@i2m.univ-amu.fr
DTSTART;TZID=Europe/Paris:20130404T140000
DTEND;TZID=Europe/Paris:20130404T150000
DTSTAMP:20241029T164736Z
URL:https://www.i2m.univ-amu.fr/evenements/c-coiffard-irma-unistra-a-marko
 v-point-process-for-fiber-extraction/
SUMMARY: (...): C. Coiffard (IRMA\\\, Unistra): A Markov point process for 
 Fiber extraction
DESCRIPTION:: A Markov point process for Fiber extraction\nBy Claire Coiffa
 rd\\\, IRMA\\\, Unistra.\n\n\nAbstract:\nThe aim of this work is to extrac
 t fibers in an image. We use a stochastic modelisation of the image : an o
 bservation is a realisation of a marked process. Using a bayesian approach
 \\\, we define our estimator by a MAP criterion. The model used to define 
 the density of our process is the Gibbs process. The energy associated is 
 divided into two parts : an internal field that favors specific spatial st
 ructures and the external field that quantifies the quality of the configu
 ration with respect to the data. The problem of optimization is solved by 
 a simulated annealing and MCMC methods.
CATEGORIES:Séminaire,Signal et Apprentissage
END:VEVENT
BEGIN:VTIMEZONE
TZID:Europe/Paris
X-LIC-LOCATION:Europe/Paris
BEGIN:DAYLIGHT
DTSTART:20130331T030000
TZOFFSETFROM:+0100
TZOFFSETTO:+0200
TZNAME:CEST
END:DAYLIGHT
END:VTIMEZONE
END:VCALENDAR