BEGIN:VCALENDAR
VERSION:2.0
PRODID:-//wp-events-plugin.com//7.2.3.1//EN
TZID:Europe/Paris
X-WR-TIMEZONE:Europe/Paris
BEGIN:VEVENT
UID:7493@i2m.univ-amu.fr
DTSTART;TZID=Europe/Paris:20170925T000000
DTEND;TZID=Europe/Paris:20170929T000000
DTSTAMP:20241216T085519Z
URL:https://www.i2m.univ-amu.fr/evenements/categories-pour-la-theorie-de-l
 -homotopie-et-la-reecriture/
SUMMARY:Conference (CIRM\, Luminy\, Marseille): Catégories pour la théori
 e de l'homotopie et la réécriture
DESCRIPTION:Conference: Les méthodes catégoriques et notamment les catég
 ories supérieures jouent un rôle plus en plus important dans de nombreux
  domaines des mathématiques. Le but de cette rencontre est de réunir des
  mathématiciens de divers horizons ayant comme point commun ces outils ca
 tégoriques. En particulier\, les domaines suivant seront représentés : 
 théorie de l'homotopie\, réécriture\, catégories supérieures\, inform
 atique théorique\, théorie géométrique des groupes\, opérades\, physi
 que théorique\, algèbre homologique\, théorie des types homotopique.\nC
 ategories for homotopy theory and rewriting\nCategorical methods and espec
 ially higher categories are playing an increasingly important role in many
  areas of mathematics. The aim of this meeting is to bring together mathem
 aticians from various horizons who have these categorical tools in common.
  In particular\, the following fields will be represented: homotopy theory
 \, rewriting\, higher categories\, theoretical computer science\, geometri
 c group theory\, operads\, theoretical physics\, homological algebra\, hom
 otopic type theory.\nOrganisateurs :\n- Dimitri Ara (Aix-Marseille Univers
 ité)\n- Marcelo Fiore (University of Cambridge)\n- Yves Guiraud (INRIA et
  Université Paris Diderot)\n- Samuel Mimram (École Polytechnique)\n-\n-\
 nAutre lien : CIRM
ATTACH;FMTTYPE=image/jpeg:https://www.i2m.univ-amu.fr/wp-content/uploads/2
 017/09/image_aglr-ldp-doi.10.1016_j.jpaa_.2013.03.008-n-cylinder-p.16-ara-
 x250.jpg
CATEGORIES:Colloque
LOCATION:Luminy - CIRM\, 163 Avenue de Luminy\, Marseille\, 13009\, France
X-APPLE-STRUCTURED-LOCATION;VALUE=URI;X-ADDRESS=163 Avenue de Luminy\, Mars
 eille\, 13009\, France;X-APPLE-RADIUS=100;X-TITLE=Luminy - CIRM:geo:0,0
END:VEVENT
BEGIN:VTIMEZONE
TZID:Europe/Paris
X-LIC-LOCATION:Europe/Paris
BEGIN:DAYLIGHT
DTSTART:20170326T030000
TZOFFSETFROM:+0100
TZOFFSETTO:+0200
TZNAME:CEST
END:DAYLIGHT
END:VTIMEZONE
END:VCALENDAR