BEGIN:VCALENDAR
VERSION:2.0
PRODID:-//wp-events-plugin.com//7.2.3.1//EN
TZID:Europe/Paris
X-WR-TIMEZONE:Europe/Paris
BEGIN:VEVENT
UID:6452@i2m.univ-amu.fr
DTSTART;TZID=Europe/Paris:20210413T160000
DTEND;TZID=Europe/Paris:20210413T173000
DTSTAMP:20241120T201712Z
URL:https://www.i2m.univ-amu.fr/evenements/clustering-sur-donnees-mixtes/
SUMMARY:Robin Fuchs (I2M\, Aix-Marseille Université): Clustering sur donn
 ées mixtes
DESCRIPTION:Robin Fuchs: Nous poursuivons notre « tour de table » du sém
 inaire des doctorant⋅es : chaque semaine\, une personne introduit quelqu
 es outils ou résultats liés à son travail de thèse.\nCette semaine\, R
 obin Fuchs (ALEA-Sta) présente des méthodes de clustering utilisées dan
 s sa thèse.\n\nLes doctorant⋅es de l'I2M et du LIS ainsi que les étudi
 ant⋅es de master sont toujours les bienvenu⋅es !\n\nLa séance sera re
 transmise sur Zoom (nous contacter pour obtenir le lien).
CATEGORIES:Séminaire,Rencontres doctorant⋅es I2M-CPT
LOCATION:I2M Luminy - TPR2\, Salle de Séminaire 304-306 (3ème étage)\, 1
 63 Avenue de Luminy\, Marseille\, 13009\, France
X-APPLE-STRUCTURED-LOCATION;VALUE=URI;X-ADDRESS=163 Avenue de Luminy\, Mars
 eille\, 13009\, France;X-APPLE-RADIUS=100;X-TITLE=I2M Luminy - TPR2\, Sall
 e de Séminaire 304-306 (3ème étage):geo:0,0
END:VEVENT
BEGIN:VTIMEZONE
TZID:Europe/Paris
X-LIC-LOCATION:Europe/Paris
BEGIN:DAYLIGHT
DTSTART:20210328T030000
TZOFFSETFROM:+0100
TZOFFSETTO:+0200
TZNAME:CEST
END:DAYLIGHT
END:VTIMEZONE
END:VCALENDAR