BEGIN:VCALENDAR
VERSION:2.0
PRODID:-//wp-events-plugin.com//7.2.3.1//EN
TZID:Europe/Paris
X-WR-TIMEZONE:Europe/Paris
BEGIN:VEVENT
UID:2076@i2m.univ-amu.fr
DTSTART;TZID=Europe/Paris:20171212T140000
DTEND;TZID=Europe/Paris:20171212T150000
DTSTAMP:20171127T130000Z
URL:https://www.i2m.univ-amu.fr/evenements/cohomologie-de-systemes-locaux-
 sur-a-g-et-representations-galoisiennes-spin/
SUMMARY: (...): Cohomologie de systèmes locaux sur A_g et représentations
  Galoisiennes "spin"
DESCRIPTION:: J'expliquerai la description de la cohomologie de systèmes l
 ocaux l-adiques sur le champs de modules A_g des variétés abéliennes pr
 incipalement polarisées de dimension g\, c'est-à-dire la variété modul
 aire de Siegel en niveau un\, en termes de représentations Galoisiennes 
 à valeur dans des groupes GSpin.http://www.college-de-france.fr/site/cour
 s-peccot/guestlecturer-2017-04-19-14h30.htm
END:VEVENT
BEGIN:VTIMEZONE
TZID:Europe/Paris
X-LIC-LOCATION:Europe/Paris
BEGIN:STANDARD
DTSTART:20171029T020000
TZOFFSETFROM:+0200
TZOFFSETTO:+0100
TZNAME:CET
END:STANDARD
END:VTIMEZONE
END:VCALENDAR