BEGIN:VCALENDAR
VERSION:2.0
PRODID:-//wp-events-plugin.com//7.2.3.1//EN
TZID:Europe/Paris
X-WR-TIMEZONE:Europe/Paris
BEGIN:VEVENT
UID:7434@i2m.univ-amu.fr
DTSTART;TZID=Europe/Paris:20171204T140000
DTEND;TZID=Europe/Paris:20171204T150000
DTSTAMP:20241120T203952Z
URL:https://www.i2m.univ-amu.fr/evenements/complements-dentrelacs-groupes-
 de-congruence-et-la-conjecture-de-rademacher-en-dimension-3/
SUMMARY:Mark Baker (IRMAR\, University of Rennes 1): Compléments d’entre
 lacs\, groupes de congruence\, et la conjecture de Rademacher en dimension
  3
DESCRIPTION:Mark Baker: H. Rademacher a conjecturé et J.B.Denin a demontr
 é qu’il y a un nombre fini de sous-groupes de congruence de PSL(2\,Z) a
 yant genre 0. La conjecture analogue en dimension 3 concerne la finitude d
 es compléments d’entrelacs dans S^3 provenant de sous-groupes de congru
 ence de PSL(2\, O_d). Dans le cas des sous-groupes de congruence principal
 \, je donnerai la liste complete\, répondant ainsi a une question de W. T
 hurston.\n\n\n
ATTACH;FMTTYPE=image/jpeg:https://www.i2m.univ-amu.fr/wp-content/uploads/2
 020/01/Mark_Baker.jpg
CATEGORIES:Séminaire,Dynamique et Topologie
END:VEVENT
BEGIN:VTIMEZONE
TZID:Europe/Paris
X-LIC-LOCATION:Europe/Paris
BEGIN:STANDARD
DTSTART:20171029T020000
TZOFFSETFROM:+0200
TZOFFSETTO:+0100
TZNAME:CET
END:STANDARD
END:VTIMEZONE
END:VCALENDAR