BEGIN:VCALENDAR
VERSION:2.0
PRODID:-//wp-events-plugin.com//7.2.3.1//EN
TZID:Europe/Paris
X-WR-TIMEZONE:Europe/Paris
BEGIN:VEVENT
UID:7534@i2m.univ-amu.fr
DTSTART;TZID=Europe/Paris:20170602T100000
DTEND;TZID=Europe/Paris:20170602T120000
DTSTAMP:20241216T090209Z
URL:https://www.i2m.univ-amu.fr/evenements/conference-grand-public-premier
 s-pas-sur-les-nombres-premiers-2/
SUMMARY:Olivier Ramaré (I2M\, CNRS\, Marseille): Premiers pas sur les nomb
 res premiers
DESCRIPTION:Olivier Ramaré: \n\n\n\n\n\n\nLieu : Lycée Thiers\, Marseille
 \n\n&nbsp\;\n\nLi-
CATEGORIES:Conférence,Diffusion,Public scolaire (lycéen.nes ou
 collégien.nes)
END:VEVENT
BEGIN:VTIMEZONE
TZID:Europe/Paris
X-LIC-LOCATION:Europe/Paris
BEGIN:DAYLIGHT
DTSTART:20170326T030000
TZOFFSETFROM:+0100
TZOFFSETTO:+0200
TZNAME:CEST
END:DAYLIGHT
END:VTIMEZONE
END:VCALENDAR