BEGIN:VCALENDAR
VERSION:2.0
PRODID:-//wp-events-plugin.com//7.2.3.1//EN
TZID:Europe/Paris
X-WR-TIMEZONE:Europe/Paris
BEGIN:VEVENT
UID:5307@i2m.univ-amu.fr
DTSTART;TZID=Europe/Paris:20240625T140000
DTEND;TZID=Europe/Paris:20240625T150000
DTSTAMP:20240817T151657Z
URL:https://www.i2m.univ-amu.fr/evenements/conjecture-de-gan-gross-prasad-
 globale-pour-les-periodes-de-fourier-jacobi-sur-les-groupes-unitaires/
SUMMARY:Paul Boisseau (I2M\, Aix Marseille Université): Conjecture de Gan-
 Gross-Prasad globale pour les périodes de Fourier-Jacobi sur les groupes 
 unitaires
DESCRIPTION:Paul Boisseau: Gan Gross et Prasad ont énoncé en 2012 une sé
 rie de conjectures reliant certaines périodes de formes automorphes cuspi
 dales sur des groupes classiques à des valeurs centrales de fonctions L. 
 Dans un travail en collaboration avec Weixiao Lu et Hang Xue\, nous démo
 ntrons la conjecture pour les périodes de Fourier-Jacobi sur les groupes 
 unitaires ainsi qu'une version raffinée à la Ichino-Ikeda. Dans cet expo
 sé je décrirai ces périodes et expliquerai comment le résultat découl
 e d'une comparaison de formules des traces relatives proposée par Liu.
CATEGORIES:Séminaire,Représentations des Groupes Réductifs
LOCATION:I2M Luminy - TPR2\, Salle de Séminaire 304-306 (3ème étage)\, 1
 63 Avenue de Luminy\, Marseille\, 13009\, France
X-APPLE-STRUCTURED-LOCATION;VALUE=URI;X-ADDRESS=163 Avenue de Luminy\, Mars
 eille\, 13009\, France;X-APPLE-RADIUS=100;X-TITLE=I2M Luminy - TPR2\, Sall
 e de Séminaire 304-306 (3ème étage):geo:0,0
END:VEVENT
BEGIN:VTIMEZONE
TZID:Europe/Paris
X-LIC-LOCATION:Europe/Paris
BEGIN:DAYLIGHT
DTSTART:20240331T030000
TZOFFSETFROM:+0100
TZOFFSETTO:+0200
TZNAME:CEST
END:DAYLIGHT
END:VTIMEZONE
END:VCALENDAR