BEGIN:VCALENDAR
VERSION:2.0
PRODID:-//wp-events-plugin.com//7.2.3.1//EN
TZID:Europe/Paris
X-WR-TIMEZONE:Europe/Paris
BEGIN:VEVENT
UID:7281@i2m.univ-amu.fr
DTSTART;TZID=Europe/Paris:20180619T110000
DTEND;TZID=Europe/Paris:20180619T120000
DTSTAMP:20241120T203857Z
URL:https://www.i2m.univ-amu.fr/evenements/continued-fraction-expansions-o
 f-complex-numbers-with-gaussian-and-eisenstein-integers/
SUMMARY:S.G. Dani (Indian Institute of Technology\, Mumbai ): Continued fra
 ction expansions of complex numbers with Gaussian and Eisenstein integers
DESCRIPTION:S.G. Dani: Continued fraction expansions of real numbers have b
 een the subject of much study for over two centuries and have played an im
 portant role in many branches of mathematics. Analogous study for complex 
 numbers has received relatively little attention\, though it was initiated
  already in the 1880s by Adolph Hurwitz. In this talk we shall trace the d
 evelopments and describe some recent results concerning continued fraction
  expansions of complex numbers\, mainly with respect to the rings of Gauss
 ian and Eisenstein integers\, and present some applications in Diophantine
  approximation.\nhttps://en.wikipedia.org/wiki/S._G._Dani\n
ATTACH;FMTTYPE=image/jpeg:https://www.i2m.univ-amu.fr/wp-content/uploads/2
 020/01/Shrikrishna_G_Dani.jpg
CATEGORIES:Séminaire,Ernest
END:VEVENT
BEGIN:VTIMEZONE
TZID:Europe/Paris
X-LIC-LOCATION:Europe/Paris
BEGIN:DAYLIGHT
DTSTART:20180325T030000
TZOFFSETFROM:+0100
TZOFFSETTO:+0200
TZNAME:CEST
END:DAYLIGHT
END:VTIMEZONE
END:VCALENDAR