BEGIN:VCALENDAR
VERSION:2.0
PRODID:-//wp-events-plugin.com//7.2.3.1//EN
TZID:Europe/Paris
X-WR-TIMEZONE:Europe/Paris
BEGIN:VEVENT
UID:8006@i2m.univ-amu.fr
DTSTART;TZID=Europe/Paris:20150921T104500
DTEND;TZID=Europe/Paris:20150921T120000
DTSTAMP:20241210T140047Z
URL:https://www.i2m.univ-amu.fr/evenements/contributions-a-lefficacite-des
 -mecanismes-cryptographiques-kevin-atighehchi/
SUMMARY:Kévin Atighehchi (I2M\, Aix-Marseille Université): Contributions 
 à l’efficacité des mécanismes cryptographiques
DESCRIPTION:Kévin Atighehchi: http://www.theses.fr/s137190\nLes besoins co
 nstants d’innovation en matière de performances et d’économie des re
 ssources nous poussent à effectuer des optimisations dans la conception e
 t l’utilisation des outils cryptographiques. Cela nous amène à étudie
 r plusieurs aspects dans cette thèse : les algorithmes cryptographiques p
 arallèles\, les algorithmes cryptographiques incrémentaux et les diction
 naires authentifiés.\n-\nDans le cadre de la cryptographie parallèle\, n
 ous nous intéressons aux fonctions de hachage basées sur des arbres. Nou
 s montrons en particulier quelles structures arborescentes utiliser pour a
 tteindre un temps d’exécution optimum avec un nombre de processeurs que
  nous cherchons à minimiser dans un second temps. Nous étudions égaleme
 nt d'autres formes d'arborescence favorisant l'équité et la scalabilité
 .\n-\nLes systèmes cryptographiques incrémentaux permettent\, lorsque no
 us modifions des documents\, de mettre à jour leurs formes cryptographiqu
 es efficacement. Nous montrons que les systèmes actuels restreignent beau
 coup trop les modifications possibles et introduisons de nouveaux algorith
 mes s’appuyant sur ces derniers\, utilisés comme des boites noires\, af
 in de rendre possible une large gamme de modifications aux documents tout 
 en conservant une propriété de secret de l’opération effectuée.\n-\n
 Notre intérêt porte ensuite sur les dictionnaires authentifiés\, utilis
 és pour authentifier les réponses aux requêtes des utilisateurs sur un 
 dictionnaire\, en leur fournissant une preuve d’authenticité pour chaqu
 e réponse. Nous nous focalisons sur des systèmes basés sur des arbres d
 e hachage et proposons une solution pour amoindrir leur principal inconvé
 nient\, celui de la taille des preuves.\n-\n*Membres du jury :\nRapporteur
 s :\n- M. QUISQUATER Jean-Jacques\, Professeur Émérite\, Univ. Catholiqu
 e de Louvain (Belgique)\n- M. CANARD Sébastien\, HDR-Ingénieur de Recher
 che\, Orange Labs (Caen)\n-\nExaminateurs :\n- M. COUVEIGNE Jean-Marc\, Pr
 ofesseur des Universités\, Univ. Bordeaux I\n- M. KOHEL David\, Professeu
 r des Universités\, I2M\, Aix-Marseille Université\n- M. LANET Jean-Loui
 s\, Professeur des Universités\, Univ. Limoges et INRIA Rennes\n- Mme. LA
 UTER Kristin\, Principal Researcher\, Microsoft Research\, Redmond (USA)\n
 - M. MUNTEAN Traian\, Professeur des Universités\, I2M\, Aix-Marseille Un
 iversité (Directeur Thèse)\n- M. ROLLAND Robert\, Invité (ex-MdC HDR Ai
 x-Marseille Université\, membre associé I2M)\n-\n-\nLien : theses.fr
ATTACH;FMTTYPE=image/jpeg:https://www.i2m.univ-amu.fr/wp-content/uploads/2
 015/09/Kevin_Atighehchi.jpg
CATEGORIES:Soutenance de thèse,AGLR,Arithmétique et Théorie de
 l’Information
END:VEVENT
BEGIN:VTIMEZONE
TZID:Europe/Paris
X-LIC-LOCATION:Europe/Paris
BEGIN:DAYLIGHT
DTSTART:20150329T030000
TZOFFSETFROM:+0100
TZOFFSETTO:+0200
TZNAME:CEST
END:DAYLIGHT
END:VTIMEZONE
END:VCALENDAR