BEGIN:VCALENDAR
VERSION:2.0
PRODID:-//wp-events-plugin.com//7.2.3.1//EN
TZID:Europe/Paris
X-WR-TIMEZONE:Europe/Paris
BEGIN:VEVENT
UID:8379@i2m.univ-amu.fr
DTSTART;TZID=Europe/Paris:20140512T100000
DTEND;TZID=Europe/Paris:20140512T110000
DTSTAMP:20241120T210354Z
URL:https://www.i2m.univ-amu.fr/evenements/cyclicite-dans-les-espaces-de-f
 onctions-analytiques/
SUMMARY:Emmanuel Fricain (LPP\, Université de Lille): Cyclicité dans les 
 espaces de fonctions analytiques
DESCRIPTION:Emmanuel Fricain: Cyclicity in the spaces of analytic functions
 \nWe introduce a large family of reproducing kernel Hilbert spaces \\({\\m
 athcal {H}} \\subset \\hbox {Hol}({\\mathbb {D}})\\)\, which include the c
 lassical Dirichlet-type spaces \\(\\mathcal {D}_\\alpha \\)\, by requiring
  normalized monomials to form a Riesz basis for \\({\\mathcal {H}}\\). The
 n\, after precisely evaluating the \\(n\\)th optimal norm and the \\(n\\)-
 th approximant of \\(f(z)=1-z\\)\, we completely characterize the cyclicit
 y of functions in \\(\\hbox {Hol}(\\overline{\\mathbb {D}})\\) with respec
 t to the forward shift.\nhttps://arxiv.org/abs/1312.7739\n
ATTACH;FMTTYPE=image/jpeg:https://www.i2m.univ-amu.fr/wp-content/uploads/2
 021/03/Emmanuel_Fricain.jpg
CATEGORIES:Séminaire,Analyse et Géométrie
END:VEVENT
BEGIN:VTIMEZONE
TZID:Europe/Paris
X-LIC-LOCATION:Europe/Paris
BEGIN:DAYLIGHT
DTSTART:20140330T030000
TZOFFSETFROM:+0100
TZOFFSETTO:+0200
TZNAME:CEST
END:DAYLIGHT
END:VTIMEZONE
END:VCALENDAR