BEGIN:VCALENDAR
VERSION:2.0
PRODID:-//wp-events-plugin.com//7.2.3.1//EN
TZID:Europe/Paris
X-WR-TIMEZONE:Europe/Paris
BEGIN:VEVENT
UID:6736@i2m.univ-amu.fr
DTSTART;TZID=Europe/Paris:20200602T110000
DTEND;TZID=Europe/Paris:20200602T180000
DTSTAMP:20241209T193005Z
URL:https://www.i2m.univ-amu.fr/evenements/deformations-de-christoffel-et-
 loi-des-grands-nombres-pour-des-processus-determinantaux-discrets/
SUMMARY:Pierre Lazag (I2M\, Aix-Marseille Université): Déformations de Ch
 ristoffel et loi des grands nombres pour des processus déterminantaux dis
 crets
DESCRIPTION:Pierre Lazag: Sous la direction de Alexander Bufetov et de Alex
 andre Boritchev.\n\nThèse en préparation à Aix-Marseille \, dans le cad
 re de Mathématiques et informatique de Marseille (ed184) \, en partenaria
 t avec Institut de Mathématiques de Marseille (equipe de recherche GDAC) 
 depuis le 06-10-2016 .
ATTACH;FMTTYPE=image/jpeg:https://www.i2m.univ-amu.fr/wp-content/uploads/2
 020/01/Pierre_Lazag.jpg
CATEGORIES:Soutenance de thèse,Event ERC IChaos,GDAC
LOCATION:Saint-Charles - FRUMAM  (2ème étage)\, 3 Place Victor Hugo\, Mar
 seille\, 13003\, France
X-APPLE-STRUCTURED-LOCATION;VALUE=URI;X-ADDRESS=3 Place Victor Hugo\, Marse
 ille\, 13003\, France;X-APPLE-RADIUS=100;X-TITLE=Saint-Charles - FRUMAM  (
 2ème étage):geo:0,0
END:VEVENT
BEGIN:VTIMEZONE
TZID:Europe/Paris
X-LIC-LOCATION:Europe/Paris
BEGIN:DAYLIGHT
DTSTART:20200329T030000
TZOFFSETFROM:+0100
TZOFFSETTO:+0200
TZNAME:CEST
END:DAYLIGHT
END:VTIMEZONE
END:VCALENDAR