BEGIN:VCALENDAR
VERSION:2.0
PRODID:-//wp-events-plugin.com//7.2.3.1//EN
TZID:Europe/Paris
X-WR-TIMEZONE:Europe/Paris
BEGIN:VEVENT
UID:6187@i2m.univ-amu.fr
DTSTART;TZID=Europe/Paris:20220120T110000
DTEND;TZID=Europe/Paris:20220120T120000
DTSTAMP:20241120T200931Z
URL:https://www.i2m.univ-amu.fr/evenements/deux-categorifications-dalexand
 er-et-une-suite-spectrale/
SUMMARY:Louis-Hadrien ROBERT (Faculty of Science\, Technology and Medicine 
 (FSTM)\, Luxembourg): Deux catégorifications d'Alexander et une suite spe
 ctrale
DESCRIPTION:Louis-Hadrien ROBERT: \n\n\n\n\n\n\n\nLe polynôme d'Alexander 
 est le plus connus des invariants polynomiaux de nœuds. Sa construction e
 st d'abord géométrique\, mais il revêt aussi un caractère "quantique".
  On peut par exemple l'obtenir comme une spécialisation du polynôme HOMF
 LY-PT. De même\, l'homologie de Floer pour les nœuds\, qui catégorifie 
 le polynôme d'Alexander\, a une nature géométrique. En 2005\, Dunfield\
 , Gukov et Rasmussen ont conjecturé que cette construction pouvait être 
 reliée aux homologies venant de la topologie quantique. Dans cet exposé\
 , je brosserai le portrait d'une nouvelle catégorification d'Alexander et
  expliquerai en quoi elle démontre une partie de la conjecture de Dunfiel
 d-Gukov-Rasmussen.\nEn commun avec Anna Beliakova\, Krzysztof Putyra et Em
 manuel Wagner.\n\n\n\n\n\n\n\n\n[su_spacer size="10"]\n\n
ATTACH;FMTTYPE=image/jpeg:https://www.i2m.univ-amu.fr/wp-content/uploads/2
 021/12/Louis-Hadrien_Robert.jpg
CATEGORIES:Séminaire,Géométrie et Topologie de Marseille
LOCATION:I2M Chateau-Gombert - CMI\, Salle de Séminaire R164 (1er étage)\
 , 39 Rue Joliot Curie\, 13013 Marseille\, France\, Campus Château-Gombert
 \, 
X-APPLE-STRUCTURED-LOCATION;VALUE=URI;X-ADDRESS=39 Rue Joliot Curie\, 13013
  Marseille\, France\, Campus Château-Gombert\, ;X-APPLE-RADIUS=100;X-TITL
 E=I2M Chateau-Gombert - CMI\, Salle de Séminaire R164 (1er étage):geo:0,
 0
END:VEVENT
BEGIN:VTIMEZONE
TZID:Europe/Paris
X-LIC-LOCATION:Europe/Paris
BEGIN:STANDARD
DTSTART:20211031T020000
TZOFFSETFROM:+0200
TZOFFSETTO:+0100
TZNAME:CET
END:STANDARD
END:VTIMEZONE
END:VCALENDAR