BEGIN:VCALENDAR
VERSION:2.0
PRODID:-//wp-events-plugin.com//7.2.3.1//EN
TZID:Europe/Paris
X-WR-TIMEZONE:Europe/Paris
BEGIN:VEVENT
UID:3002@i2m.univ-amu.fr
DTSTART;TZID=Europe/Paris:20190620T090000
DTEND;TZID=Europe/Paris:20190620T110000
DTSTAMP:20241209T195531Z
URL:https://www.i2m.univ-amu.fr/evenements/developpement-de-methodes-itera
 tives-pour-la-tomographie-spectrale/
SUMMARY:Souhil Tairi (I2M\, Aix-Marseille Université): Développement de m
 éthodes itératives pour la tomographie spectrale
DESCRIPTION:Souhil Tairi: Développement de méthodes itératives pour la t
 omographie spectrale\nDans cette thèse\, nous proposons une méthode pour
  séparer et reconstruire simultanément les composantes physiques d'un ob
 jet observé dans le contexte de la tomographie spectrale. Notre contribut
 ion considère le modèle polychromatique sous-jacent du faisceau de rayon
 s X et le combine avec un modèle préétabli sur les composants de l'obje
 t à reconstruire. La séparation et la reconstruction simultanées des co
 mposantes se font en résolvant un problème inverse non convexe et mal po
 sé avec un algorithme proximal à métrique variable. Des résultats prom
 etteurs sont montrés sur des données réelles 3D acquises sur le prototy
 pe micro-CT PIXSCAN avec une simple régularisation qui englobe la positiv
 ité des quantités d'intérêt.\n\nIterative methods for spectral Compute
 d Tomography reconstruction\nIn this thesis\, we propose a method to simul
 taneously separate and reconstruct the physical components of an object ob
 served in the context of spectral Computed Tomography. Our contribution co
 nsiders the underlying polychromatic model of the X-ray beam and combines 
 it with a prior on the components of the object to reconstruct. The simult
 aneous separation and reconstruction of components is done by solving a no
 n-convex ill-posed inverse problem with a variable metric proximal algorit
 hm. Promising results are shown on 3D real data acquired on the micro-CT P
 IXSCAN prototype with a simple regularization that encompasses the positiv
 ity of the quantities of interest.\n\n*Membres du jury :\n- Émilie CHOUZE
 NOUX\, Chercheuse associée à l'université Paris Est\, rapporteur\n- Fra
 nçoise PEYRIN\, Directrice de recherche à l'INSA Lyon\, rapporteur\n- Fr
 ederic NOO\, Professeur à l'université de l'Utah\, examinateur\n- Franci
 s VERDUN\, Professeur à l'université de Lausanne\, examinateur\n- Sandri
 ne ANTHOINE\, Chercheuse à l'I2M\, co-directrice de thèse\n- Yannick BOU
 RSIER\, Maître de conférence à l'école Polytechnique Marseille\, co-di
 recteur de thèse\n- Christian MOREL\, Professeur à l'université Aix Mar
 seille\, directeur de thèse\n- Cristinel DIACONU\, Directeur CPPM\, exami
 nateur\n\nhttp://www.researchgate.net/profile/Tairi_Souhil\n\nLiens :\n- t
 heses.fr\n- Fiche de l'ED184
CATEGORIES:Soutenance de thèse,ALEA,Signal et Apprentissage
END:VEVENT
BEGIN:VTIMEZONE
TZID:Europe/Paris
X-LIC-LOCATION:Europe/Paris
BEGIN:DAYLIGHT
DTSTART:20190331T030000
TZOFFSETFROM:+0100
TZOFFSETTO:+0200
TZNAME:CEST
END:DAYLIGHT
END:VTIMEZONE
END:VCALENDAR