BEGIN:VCALENDAR
VERSION:2.0
PRODID:-//wp-events-plugin.com//7.2.3.1//EN
TZID:Europe/Paris
X-WR-TIMEZONE:Europe/Paris
BEGIN:VEVENT
UID:6096@i2m.univ-amu.fr
DTSTART;TZID=Europe/Paris:20220404T100000
DTEND;TZID=Europe/Paris:20220404T110000
DTSTAMP:20241202T153601Z
URL:https://www.i2m.univ-amu.fr/evenements/discussion-des-configurations-t
 ype-dordinateurs-pour-le-nouveau-marche/
SUMMARY:Commission informatique (I2M\, Aix-Marseille Université): Discussi
 on des configurations type d’ordinateurs pour le nouveau marché
DESCRIPTION:Commission informatique: Ordre du jour\n\n1. Validation du PV p
 récédent\n2. Discussion des configurations type d’ordinateurs pour le 
 nouveau marché\n3. Date de la prochaine réunion\n[su_spacer size="10"]\n
 Participer à la réunion Zoom\nhttps://univ-amu-fr.zoom.us/j/87056443416?
 pwd=T1dVQzh4WUN2aERwNGhyUVkrYTlLZz09\n\nID de réunion : 870 5644 3416\nCo
 de secret : voir mail\n\n 
CATEGORIES:Événement institutionnel,Commission
 Informatique,Hybrid,Instance consultative I2M
LOCATION:Saint-Charles - FRUMAM  (2ème étage)\, 3 Place Victor Hugo\, Mar
 seille\, 13003\, France
X-APPLE-STRUCTURED-LOCATION;VALUE=URI;X-ADDRESS=3 Place Victor Hugo\, Marse
 ille\, 13003\, France;X-APPLE-RADIUS=100;X-TITLE=Saint-Charles - FRUMAM  (
 2ème étage):geo:0,0
END:VEVENT
BEGIN:VTIMEZONE
TZID:Europe/Paris
X-LIC-LOCATION:Europe/Paris
BEGIN:DAYLIGHT
DTSTART:20220327T030000
TZOFFSETFROM:+0100
TZOFFSETTO:+0200
TZNAME:CEST
END:DAYLIGHT
END:VTIMEZONE
END:VCALENDAR