BEGIN:VCALENDAR
VERSION:2.0
PRODID:-//wp-events-plugin.com//7.2.3.1//EN
TZID:Europe/Paris
X-WR-TIMEZONE:Europe/Paris
BEGIN:VEVENT
UID:3475@i2m.univ-amu.fr
DTSTART;TZID=Europe/Paris:20200915T120000
DTEND;TZID=Europe/Paris:20200915T140000
DTSTAMP:20241202T160215Z
URL:https://www.i2m.univ-amu.fr/evenements/double-conseil-de-laboratoire-i
 2m-departement-de-mathematiques/
SUMMARY: (...): Double Conseil de Laboratoire I2M/Département de Mathémat
 iques : campagne d'emploi
DESCRIPTION:: Ordre du jour : la campagne d'emploi
CATEGORIES:Événement institutionnel,Conseil de Laboratoire,Instance
 consultative I2M
LOCATION:Saint-Charles - FRUMAM  (2ème étage)\, 3 Place Victor Hugo\, Mar
 seille\, 13003\, France
X-APPLE-STRUCTURED-LOCATION;VALUE=URI;X-ADDRESS=3 Place Victor Hugo\, Marse
 ille\, 13003\, France;X-APPLE-RADIUS=100;X-TITLE=Saint-Charles - FRUMAM  (
 2ème étage):geo:0,0
END:VEVENT
BEGIN:VTIMEZONE
TZID:Europe/Paris
X-LIC-LOCATION:Europe/Paris
BEGIN:DAYLIGHT
DTSTART:20200329T030000
TZOFFSETFROM:+0100
TZOFFSETTO:+0200
TZNAME:CEST
END:DAYLIGHT
END:VTIMEZONE
END:VCALENDAR