BEGIN:VCALENDAR
VERSION:2.0
PRODID:-//wp-events-plugin.com//7.2.3.1//EN
TZID:Europe/Paris
X-WR-TIMEZONE:Europe/Paris
BEGIN:VEVENT
UID:7283@i2m.univ-amu.fr
DTSTART;TZID=Europe/Paris:20180618T140000
DTEND;TZID=Europe/Paris:20180618T150000
DTSTAMP:20241120T203858Z
URL:https://www.i2m.univ-amu.fr/evenements/dynamique-des-feuilletages-de-s
 urfaces-de-dilatations/
SUMMARY:Charles Fougeron (IMJ-PRG\, Sorbonne Université): Dynamique des fe
 uilletages de surfaces de dilatations
DESCRIPTION:Charles Fougeron: Si nous considérons une famille de feuilleta
 ges sur une surface\, quels ensembles limites s'attend on à observer gén
 ériquement en mesure ? Par exemple sur le tore plat\, le feuilletage dire
 ctionnel est dense dans presque toutes directions. De même pour une grand
 e famille de surfaces de translation telles que les surfaces à petits car
 reaux et autres surfaces de Veech. Cependant\, le célèbre exemple des la
 ngues d'Arnol'd montre qu'il existe des familles à 1-paramètre de feuill
 etages qui ont deux comportements génériques possibles: il peut être mi
 nimal\, ou bien avoir des points périodiques attractifs.\n\nJ'expliquerai
  un nouvel exemple de famille à 1-paramètre aux propriétés dynamiques 
 assez étonnantes\, obtenu comme l'ensemble des feuilletages directionnels
  d'une surface de dilatation. Ainsi que des techniques de renormalisation 
 inspirées entre autre des échanges d'intervalles\, et de leur induction 
 de Rauzy\, pour décrire la dynamique de cette famille.\n\nhttp://webusers
 .imj-prg.fr/~charles.fougeron/
ATTACH;FMTTYPE=image/jpeg:https://www.i2m.univ-amu.fr/wp-content/uploads/2
 020/01/Charles_Fougeron-Moscow.jpg
CATEGORIES:Séminaire,Dynamique et Topologie
END:VEVENT
BEGIN:VTIMEZONE
TZID:Europe/Paris
X-LIC-LOCATION:Europe/Paris
BEGIN:DAYLIGHT
DTSTART:20180325T030000
TZOFFSETFROM:+0100
TZOFFSETTO:+0200
TZNAME:CEST
END:DAYLIGHT
END:VTIMEZONE
END:VCALENDAR