BEGIN:VCALENDAR
VERSION:2.0
PRODID:-//wp-events-plugin.com//7.2.3.1//EN
TZID:Europe/Paris
X-WR-TIMEZONE:Europe/Paris
BEGIN:VEVENT
UID:5880@i2m.univ-amu.fr
DTSTART;TZID=Europe/Paris:20221118T110000
DTEND;TZID=Europe/Paris:20221118T120000
DTSTAMP:20241120T200646Z
URL:https://www.i2m.univ-amu.fr/evenements/dynamiques-universelles-au-sein
 -des-flots-deuler-stationnaires-3-dimensionnels/
SUMMARY:Anna Florio (CEREMADE\, Université Paris Dauphine): Dynamiques uni
 verselles au sein des flots d'Euler stationnaires 3-dimensionnels
DESCRIPTION:Anna Florio: La compréhension de la complexité dynamique d'un
  fluide idéal a motivé de nombreux travaux. Selon la vision d'Arnold\, 
 les flots d'Euler stationnaires devraient présenter des dynamiques aussi 
 complexes que celles observées en mécanique céleste. Avec Pierre Berger
  et Daniel Peralta-Salas\, nous validons la vision d'Arnold en démontrant
  l'existence d'un ensemble localement dense de solutions stationnaires de 
 l'équation d'Euler dans $\\mathbb{R}^3$ formé par des champs de vecteurs
  universels. Nous introduisons pour cela de nouvelles méthodes perturbati
 ves au sein des champs de vecteurs Beltrami permettant d'importer des outi
 ls de la théorie des bifurcations.\nhttps://www.researchgate.net/profile/
 Anna-Florio-2
ATTACH;FMTTYPE=image/jpeg:https://www.i2m.univ-amu.fr/wp-content/uploads/2
 022/10/Anna_Florio.png
CATEGORIES:Séminaire,Rauzy
LOCATION:Saint-Charles - FRUMAM (3ème étage)\, 3\, place Victor Hugo\, Ma
 rseille\, 13003\, France
X-APPLE-STRUCTURED-LOCATION;VALUE=URI;X-ADDRESS=3\, place Victor Hugo\, Mar
 seille\, 13003\, France;X-APPLE-RADIUS=100;X-TITLE=Saint-Charles - FRUMAM 
 (3ème étage):geo:0,0
END:VEVENT
BEGIN:VTIMEZONE
TZID:Europe/Paris
X-LIC-LOCATION:Europe/Paris
BEGIN:STANDARD
DTSTART:20221030T020000
TZOFFSETFROM:+0200
TZOFFSETTO:+0100
TZNAME:CET
END:STANDARD
END:VTIMEZONE
END:VCALENDAR