BEGIN:VCALENDAR
VERSION:2.0
PRODID:-//wp-events-plugin.com//7.2.3.1//EN
TZID:Europe/Paris
X-WR-TIMEZONE:Europe/Paris
BEGIN:VEVENT
UID:8904@i2m.univ-amu.fr
DTSTART;TZID=Europe/Paris:20251114T160000
DTEND;TZID=Europe/Paris:20251114T170000
DTSTAMP:20251111T074726Z
URL:https://www.i2m.univ-amu.fr/evenements/endomorphismes-postcritiquement
 -finis-des-espaces-projectifs/
SUMMARY:Thomas Gauthier (Université Paris-Saclay): Endomorphismes postcrit
 iquement finis des espaces projectifs
DESCRIPTION:Thomas Gauthier: \n\nCet exposé porte sur la dynamique holomor
 phe discrète\, c’est-à-dire sur l’étude de l’itération des trans
 formations holomorphes (polynomiales et rationnelles en particulier). Dans
  ce domaine\, les applications post-critiquement finies (celles dont l’e
 nsemble critique est prépériodique sous itération) jouent un rôle part
 iculier. Dans cet exposé\, nous commencerons pas nous intéresser à la q
 uestion maintenant classique de la répartition de ses points périodiques
 . Ensuite\, nous nous intéresserons au rôle joué pa les applications po
 st-critiquement finies vues comme points des espaces de paramètres de dyn
 amique holomorphe et nous ferons un panorama des résultats connus.\n\n\n
CATEGORIES:Colloquium
LOCATION:Saint-Charles - FRUMAM  (2ème étage)\, 3 Place Victor Hugo\, Mar
 seille\, 13003\, France
X-APPLE-STRUCTURED-LOCATION;VALUE=URI;X-ADDRESS=3 Place Victor Hugo\, Marse
 ille\, 13003\, France;X-APPLE-RADIUS=100;X-TITLE=Saint-Charles - FRUMAM  (
 2ème étage):geo:0,0
END:VEVENT
BEGIN:VTIMEZONE
TZID:Europe/Paris
X-LIC-LOCATION:Europe/Paris
BEGIN:STANDARD
DTSTART:20251026T020000
TZOFFSETFROM:+0200
TZOFFSETTO:+0100
TZNAME:CET
END:STANDARD
END:VTIMEZONE
END:VCALENDAR