BEGIN:VCALENDAR
VERSION:2.0
PRODID:-//wp-events-plugin.com//7.2.3.1//EN
TZID:Europe/Paris
X-WR-TIMEZONE:Europe/Paris
BEGIN:VEVENT
UID:2044@i2m.univ-amu.fr
DTSTART;TZID=Europe/Paris:20171204T140000
DTEND;TZID=Europe/Paris:20171204T160000
DTSTAMP:20241209T221120Z
URL:https://www.i2m.univ-amu.fr/evenements/etude-mathematique-de-problemes
 -paraboliques-fortement-anisotropes/
SUMMARY:Thomas Blanc (I2M\, Aix-Marseille Université): Étude mathématiqu
 e de problèmes paraboliques fortement anisotropes
DESCRIPTION:Thomas Blanc: *Directeurs de thèse :\n- Mihaï BOSTAN\n- Franc
 k BOYER (co-directeur)\n\nLien : theses.fr
CATEGORIES:Soutenance de thèse,Analyse Appliquée
END:VEVENT
BEGIN:VTIMEZONE
TZID:Europe/Paris
X-LIC-LOCATION:Europe/Paris
BEGIN:STANDARD
DTSTART:20171029T020000
TZOFFSETFROM:+0200
TZOFFSETTO:+0100
TZNAME:CET
END:STANDARD
END:VTIMEZONE
END:VCALENDAR