BEGIN:VCALENDAR
VERSION:2.0
PRODID:-//wp-events-plugin.com//7.2.3.1//EN
TZID:Europe/Paris
X-WR-TIMEZONE:Europe/Paris
BEGIN:VEVENT
UID:7941@i2m.univ-amu.fr
DTSTART;TZID=Europe/Paris:20151217T110000
DTEND;TZID=Europe/Paris:20151217T120000
DTSTAMP:20241120T205610Z
URL:https://www.i2m.univ-amu.fr/evenements/factorisation-par-les-pentes-de
 s-polynomes-p-adiques-commutatifs-et-non-commutatifs/
SUMMARY:Xavier Caruso (...): Factorisation par les pentes des polynômes p-
 adiques commutatifs et non-commutatifs
DESCRIPTION:Xavier Caruso: TBA\n\nXavier Caruso\, Univ. Rennes 1\n\n
CATEGORIES:Séminaire,Arithmétique et Théorie de l’Information
END:VEVENT
BEGIN:VTIMEZONE
TZID:Europe/Paris
X-LIC-LOCATION:Europe/Paris
BEGIN:STANDARD
DTSTART:20151025T020000
TZOFFSETFROM:+0200
TZOFFSETTO:+0100
TZNAME:CET
END:STANDARD
END:VTIMEZONE
END:VCALENDAR