BEGIN:VCALENDAR
VERSION:2.0
PRODID:-//wp-events-plugin.com//7.2.3.1//EN
TZID:Europe/Paris
X-WR-TIMEZONE:Europe/Paris
BEGIN:VEVENT
UID:1902@i2m.univ-amu.fr
DTSTART;TZID=Europe/Paris:20170926T150000
DTEND;TZID=Europe/Paris:20170926T160000
DTSTAMP:20170911T130000Z
URL:https://www.i2m.univ-amu.fr/evenements/factorization-of-automorphic-pe
 riods-and-local-plancherel-formulas/
SUMMARY: (...): Factorization of automorphic periods and local Plancherel f
 ormulas
DESCRIPTION:: Groupe de travail sur la formule des traces relative.-Je tent
 erai d'y exposer le contenu de mon premier cours Peccot. -Webpage
END:VEVENT
BEGIN:VTIMEZONE
TZID:Europe/Paris
X-LIC-LOCATION:Europe/Paris
BEGIN:DAYLIGHT
DTSTART:20170326T030000
TZOFFSETFROM:+0100
TZOFFSETTO:+0200
TZNAME:CEST
END:DAYLIGHT
END:VTIMEZONE
END:VCALENDAR