BEGIN:VCALENDAR
VERSION:2.0
PRODID:-//wp-events-plugin.com//7.2.3.1//EN
TZID:Europe/Paris
X-WR-TIMEZONE:Europe/Paris
BEGIN:VEVENT
UID:9065@i2m.univ-amu.fr
DTSTART;TZID=Europe/Paris:20260407T110000
DTEND;TZID=Europe/Paris:20260407T120000
DTSTAMP:20260331T142149Z
URL:https://www.i2m.univ-amu.fr/evenements/from-dust-to-fences/
SUMMARY:Dario Darji (University of Louisville): From Dust to Fences
DESCRIPTION:Dario Darji: \nHomeomorphisms of the Cantor set (“dust”) pl
 ay a fundamental role in topology\, dynamical systems\, and descriptive se
 t theory\, where they are studied from different perspectives. Recently\, 
 various properties of so-called fence-like objects have attracted attentio
 n. These include the Lelek fan (from topology)\, the hairy Cantor set and 
 Cantor bouquet (from dynamical systems)\, and the Fraïssé fence (from mo
 del theory). Several recent works investigate both the structure of these 
 spaces and the dynamics of homeomorphisms defined on them.\n\nIn this work
 \, we develop a general technique that allows one to transfer—or lift—
 the dynamics of a given homeomorphism of the Cantor set to a homeomorphism
  of a fence of the types described above. This is joint work with Jernej 
 Činč and Benjamin Vejnar.\n
CATEGORIES:Séminaire,Ernest
LOCATION:I2M Luminy - TPR2\, Salle de Séminaire 304-306 (3ème étage)\, 1
 63 Avenue de Luminy\, Marseille\, 13009\, France
X-APPLE-STRUCTURED-LOCATION;VALUE=URI;X-ADDRESS=163 Avenue de Luminy\, Mars
 eille\, 13009\, France;X-APPLE-RADIUS=100;X-TITLE=I2M Luminy - TPR2\, Sall
 e de Séminaire 304-306 (3ème étage):geo:0,0
END:VEVENT
BEGIN:VTIMEZONE
TZID:Europe/Paris
X-LIC-LOCATION:Europe/Paris
BEGIN:DAYLIGHT
DTSTART:20260329T030000
TZOFFSETFROM:+0100
TZOFFSETTO:+0200
TZNAME:CEST
END:DAYLIGHT
END:VTIMEZONE
END:VCALENDAR