BEGIN:VCALENDAR
VERSION:2.0
PRODID:-//wp-events-plugin.com//7.2.3.1//EN
TZID:Europe/Paris
X-WR-TIMEZONE:Europe/Paris
BEGIN:VEVENT
UID:6465@i2m.univ-amu.fr
DTSTART;TZID=Europe/Paris:20210405T000000
DTEND;TZID=Europe/Paris:20210416T000000
DTSTAMP:20241120T201716Z
URL:https://www.i2m.univ-amu.fr/evenements/generalised-coupling-conditions
 -for-arbitrary-flow-directions-at-the-fluid-porous-interface-cancelled/
SUMMARY:Pairs (CIRM\, Luminy\, Marseille): Generalised coupling conditions 
 for arbitrary flow directions at the fluid-porous interface - CANCELLED
DESCRIPTION:Pairs: Conditions de couplage fluide-poreux généralisées pou
 r les écoulements de directions arbitraires\nRESEARCH IN PAIRS\n\nOrganiz
 ers\nPhilippe Angot (Aix-Marseille Université)\nElissa Eggenweiler (Unive
 rsity of tuttgart)\nIryna Rybak (University of Stuttgart\n\n&nbsp\;
CATEGORIES:Manifestation scientifique,Research in Pairs
END:VEVENT
BEGIN:VTIMEZONE
TZID:Europe/Paris
X-LIC-LOCATION:Europe/Paris
BEGIN:DAYLIGHT
DTSTART:20210328T030000
TZOFFSETFROM:+0100
TZOFFSETTO:+0200
TZNAME:CEST
END:DAYLIGHT
END:VTIMEZONE
END:VCALENDAR