BEGIN:VCALENDAR
VERSION:2.0
PRODID:-//wp-events-plugin.com//7.2.3.1//EN
TZID:Europe/Paris
X-WR-TIMEZONE:Europe/Paris
BEGIN:VEVENT
UID:2050@i2m.univ-amu.fr
DTSTART;TZID=Europe/Paris:20171205T140000
DTEND;TZID=Europe/Paris:20171205T150000
DTSTAMP:20171120T130000Z
URL:https://www.i2m.univ-amu.fr/evenements/geometrie-de-l-espace-de-module
 s-de-fibres-paraboliques-sur-les-courbes-elliptiques/
SUMMARY: (...): Géométrie de l'espace de modules de fibrés paraboliques 
 sur les courbes elliptiques
DESCRIPTION:: On s'intéresse aux fibrés vectoriels paraboliques de rang 2
  sur une courbe elliptique deux fois épointée. On décrira l'espace de m
 odules classifiant ces objets\, et on retrouvera un théorème de type Tor
 elli. Cet espace de modules est en relation avec un autre espace de module
 s\, qui classifie fibrés paraboliques de rang 2 sur la droite projective.
  Ce lien nous permettra de retrouver la jolie géométrie des surfaces de 
 del Pezzo de degré 4.
CATEGORIES:Séminaire,Géométrie Complexe
END:VEVENT
BEGIN:VTIMEZONE
TZID:Europe/Paris
X-LIC-LOCATION:Europe/Paris
BEGIN:STANDARD
DTSTART:20171029T020000
TZOFFSETFROM:+0200
TZOFFSETTO:+0100
TZNAME:CET
END:STANDARD
END:VTIMEZONE
END:VCALENDAR