BEGIN:VCALENDAR
VERSION:2.0
PRODID:-//wp-events-plugin.com//7.2.3.1//EN
TZID:Europe/Paris
X-WR-TIMEZONE:Europe/Paris
BEGIN:VEVENT
UID:9060@i2m.univ-amu.fr
DTSTART;TZID=Europe/Paris:20260327T160000
DTEND;TZID=Europe/Paris:20260327T170000
DTSTAMP:20260327T083256Z
URL:https://www.i2m.univ-amu.fr/evenements/geometrie-et-spectre-des-graphe
 s-regularite-de-la-mesure-spectrale/
SUMMARY:Charles Bordenave (I2M): Géométrie et spectre des graphes : régu
 larité de la mesure spectrale
DESCRIPTION:Charles Bordenave: Le spectre du laplacien discret\, ou de ses
  perturbations aléatoires comme l'opérateur d'Anderson\, sur un graphe e
 ncode une information riche sur la structure de cet espace. Si les questio
 ns naturelles abondent (nature du spectre\, localisation des fonctions pro
 pres\, comportement de la mesure spectrale)\, peu admettent des réponses 
 complètes en dehors de cas très particuliers.\n\nDans cet exposé\, nous
  introduirons le cadre de la théorie spectrale sur les graphes et survole
 rons les principales questions ouvertes. Nous présenterons ensuite un cri
 tère géométrique élémentaire qui fournit un contrôle sur la régula
 rité de la mesure spectrale.
CATEGORIES:Colloquium
LOCATION:Saint-Charles - FRUMAM  (2ème étage)\, 3 Place Victor Hugo\, Mar
 seille\, 13003\, France
X-APPLE-STRUCTURED-LOCATION;VALUE=URI;X-ADDRESS=3 Place Victor Hugo\, Marse
 ille\, 13003\, France;X-APPLE-RADIUS=100;X-TITLE=Saint-Charles - FRUMAM  (
 2ème étage):geo:0,0
END:VEVENT
BEGIN:VTIMEZONE
TZID:Europe/Paris
X-LIC-LOCATION:Europe/Paris
BEGIN:STANDARD
DTSTART:20251026T020000
TZOFFSETFROM:+0200
TZOFFSETTO:+0100
TZNAME:CET
END:STANDARD
END:VTIMEZONE
END:VCALENDAR