BEGIN:VCALENDAR
VERSION:2.0
PRODID:-//wp-events-plugin.com//7.2.3.1//EN
TZID:Europe/Paris
X-WR-TIMEZONE:Europe/Paris
BEGIN:VEVENT
UID:7374@i2m.univ-amu.fr
DTSTART;TZID=Europe/Paris:20180219T000000
DTEND;TZID=Europe/Paris:20180223T000000
DTSTAMP:20241216T085054Z
URL:https://www.i2m.univ-amu.fr/evenements/geometry-of-groups-and-3-manifo
 lds-state-of-the-art-and-perspectives-thematic-month-2018/
SUMMARY:Conference (CIRM\, Luminy\, Marseille): Geometry of Groups and 3-ma
 nifolds: State of the Art and Perspectives (Thematic Month 2018)
DESCRIPTION:Conference: \n\n\n\n\n\n\n\n\n Schedule / Programme \n\n\n\n\n\
 n Abstracts \n\n\n\n\n\n Participants \n\n\n\n\n\n Videos \n\n\n\n\n\n\n\n
 \n\n\n\nCONFERENCE\n\nGeometry of Groups and 3-manifolds: State of the Art
  and Perspectives\nGéométrie des groupes et géométrie des 3-variétés
  : situation et perspectives\n19 - 23 February 2018\n\n\n\nScientific Comm
 ittee  &amp\; Organizing Committee\nComité scientifique &amp\; Comité
  d'organisation\n​Brian Bowditch (University of Warwick)\nPeter Haïssin
 sky (Aix-Marseille Université)\nJérôme Los (CNRS / Aix-Marseille Univer
 sité)\nHamish Short (Aix-Marseille Université)\n\n&nbsp\;\nDescription\n
 \n\n\n\n\n\n\n\n\n\nThe object of this week is to bring together specialis
 ts in the domains of Riemannian geometry\, low-dimensional topology and ge
 ometric group theory to take stock of current interactions and encourage n
 ew exchanges in this area of rapid progress.\n\nSince the number of places
  at CIRM is restricted\, we strongly encourage all those who plan to take 
 part in the conference to pre-register as soon as possible. Pre-registrati
 on will close at the end of October\, 2017. Note that we cannot ensure par
 ticipation without pre-registration or beyond the number of available plac
 es.​\n\nThe organisers will be able to cover living expenses for a limit
 ed number of students and young researchers. Students and young researcher
 s wishing to have their living expenses covered must apply for funding whe
 n pre-registering.\n\n\n\n\n\n\n\n\nLes pré-inscriptions se clôtureront 
 fin octobre 2017. Les inscriptions seront limitées par les places disponi
 bles\, et les demandes des personnes pré-inscrites seront considérées e
 n priorité.\n\nLes organisateurs disposent d’un budget pour couvrir le
 s frais de séjour d’un nombre limité d’étudiants et jeunes chercheu
 rs. Afin de bénéficier de cette aide\, merci d'en faire la demande lors 
 de la pré-inscription.\n\nL'objet de cette semaine sera de réunir des sp
 écialistes de géométrie riemannienne\, topologie de basse dimension et 
 géométrie des groupes afin de faire le point sur leurs interactions et d
 e stimuler de nouvelles passerelles entre ces thèmes très porteurs.\n\n\
 n\n\n\n\n\n\n\n\n\nSpeakers\n\nTarik Aougab (Brown University) - Thermodyn
 amic metrics for moduli of graphs​\nJavier  Aramayona (UAM Madrid) - T
 he first integral cohomology of pure mapping class groups​\nHarry Baik (
 KAIST) -  Asymptotic translation length in curve complexes\nFlorent Balac
 heff (Université Lille 1) - Systolic geometry and simplicial complexity f
 or groups\nPierre-Emmanuel Caprace (Université Catholique de Louvain) - 
 Lattices in products of trees and commensurators of free groups​\nVictor
  Chepoi (Aix-Marseille Université) - Helly graphs: local-to-global charac
 terization\, bicombing\, and examples\nStefan Friedl (University of Regens
 burg) - Exceptional 3-manifolds​ - VIDEO  -\nAnthony Genevois (Aix-Mar
 seille Université) - Quasi-median graphs and group theory​\nMark Hagen 
 (University of Bristol) - Panel collapse​\nCamille Horbez (CNRS/ Univers
 ité Paris-Sud) - Automorphisms of hyperbolic groups and growth - VIDEO 
  -\nAlessandra Iozzi (ETH Zurich) - Complex groups\, 3-manifolds and volu
 mes\nCyril Lecuire (CNRS/ Université Paul Sabatier) - Quasi-isometric rig
 idity of 3-manifold groups\nKen'ichi Ohshika (Osaka University) - Disconti
 nuous motions of Cannon-Thurston maps​\nConstantin Vernicos (Université
  de Montpellier) - On Hilbert's geometry\nGenevieve Walsh (Tufts Universi
 ty) - Planar boundaries of relatively hyperbolic groups \nRichard Weidman
 n (CAU University of Kiel) - Meridional rank versus bridge number\n\n\n\nS
 PONSORS\n\n\n\n  \n\n\n\n
ATTACH;FMTTYPE=image/jpeg:https://www.i2m.univ-amu.fr/wp-content/uploads/2
 018/06/image_gdac-arxiv.0710.1960-3-manifolds_branch_rotation-fig.18-short
 -x450.jpg
CATEGORIES:Colloque,Mois thématique
END:VEVENT
BEGIN:VTIMEZONE
TZID:Europe/Paris
X-LIC-LOCATION:Europe/Paris
BEGIN:STANDARD
DTSTART:20171029T020000
TZOFFSETFROM:+0200
TZOFFSETTO:+0100
TZNAME:CET
END:STANDARD
END:VTIMEZONE
END:VCALENDAR