BEGIN:VCALENDAR
VERSION:2.0
PRODID:-//wp-events-plugin.com//7.2.3.1//EN
TZID:Europe/Paris
X-WR-TIMEZONE:Europe/Paris
BEGIN:VEVENT
UID:8151@i2m.univ-amu.fr
DTSTART;TZID=Europe/Paris:20150302T000000
DTEND;TZID=Europe/Paris:20150306T000000
DTSTAMP:20241221T201211Z
URL:https://www.i2m.univ-amu.fr/evenements/geometry-of-singular-spaces-and
 -maps-thematic-month-2015/
SUMMARY:Conference (CIRM\, Luminy\, Marseille): Geometry of Singular Spaces
  and Maps (Thematic Month 2015)
DESCRIPTION:Conference: Mois Thématique : Géométrie des espaces et appli
 cations singuliers (5ème semaine)\n-\nLa théorie des singularités\, la 
 géométrie et la topologie avancent ensemble\, et leurs interactions ont 
 conduit à de nombreuses connexions avec divers domaines tels que la topol
 ogie symplectique et de contact\, les théories d'homologie\, la géométr
 ie métrique. Récemment\, de nombreuses nouvelles connexions sont apparue
 s. Par exemple\, la topologie en faible dimension et les nouvelles théori
 es d'homologie ont apporté de nouveaux invariants à la théorie des sing
 ularité\, les applications de la géométrie métrique constituent égale
 ment une nouvelle directions fructueuse. Dans les dernières années\, son
 t apparus des résultats significatifs dans divers domaines tels que les s
 ingularités non isolées\, l'espace des arcs ou la théorie de l'équisin
 gularité\, principalement portées par des méthodes topologiques ou géo
 métriques.\n-\nOrganisateurs :\n- Jean-Paul Brasselet (I2M\, Marseille)\n
 - Anne Pichon (I2M\, Marseille)\n-\n\nSite web de la 5ème rencontre\n-\nA
 utre lien : CIRM (programme des 5 semaines).
CATEGORIES:Colloque,Mois thématique
END:VEVENT
BEGIN:VTIMEZONE
TZID:Europe/Paris
X-LIC-LOCATION:Europe/Paris
BEGIN:STANDARD
DTSTART:20141026T020000
TZOFFSETFROM:+0200
TZOFFSETTO:+0100
TZNAME:CET
END:STANDARD
END:VTIMEZONE
END:VCALENDAR