BEGIN:VCALENDAR
VERSION:2.0
PRODID:-//wp-events-plugin.com//7.2.3.1//EN
TZID:Europe/Paris
X-WR-TIMEZONE:Europe/Paris
BEGIN:VEVENT
UID:9066@i2m.univ-amu.fr
DTSTART;TZID=Europe/Paris:20260402T140000
DTEND;TZID=Europe/Paris:20260402T160000
DTSTAMP:20260401T123536Z
URL:https://www.i2m.univ-amu.fr/evenements/groupe-de-travail-surfaces-k3-d
 iviseurs/
SUMMARY:Samuele Anni (Aix-Marseille Université): Groupe de travail Surface
 s K3 : Diviseurs
DESCRIPTION:Samuele Anni: Cet exposé présente la théorie des diviseurs s
 ur les variétés algébriques\, en suivant  Miranda\, An Overview of Al
 gebraic Surfaces (§1.4) et Hartshorne\, Algebraic Geometry (II.6–7).
  On introduit d’abord les diviseurs de Weil\, puis les diviseurs de Cart
 ier\, et on explique leur relation\, en particulier sur les variétés lis
 ses où les deux notions coïncident.Cette correspondance conduit naturell
 ement à la notion de faisceaux inversibles et au groupe de Picard\, qui c
 lassifie ces faisceaux. Enfin\, on explique comment les sections globales 
 d’un faisceau inversible permettent de définir des morphismes vers l’
 espace projectif\, établissant ainsi un lien fondamental entre diviseurs\
 , fibrés en droites et plongements projectifs.
CATEGORIES:Groupe de travail,AGLR,Arithmétique et Théorie de
 l’Information
LOCATION:I2M Luminy - TPR2\, Amphithéâtre Herbrand 130-134 (1er étage)\,
  163 Avenue de Luminy\, Marseille\, 13009\, France
X-APPLE-STRUCTURED-LOCATION;VALUE=URI;X-ADDRESS=163 Avenue de Luminy\, Mars
 eille\, 13009\, France;X-APPLE-RADIUS=100;X-TITLE=I2M Luminy - TPR2\, Amph
 ithéâtre Herbrand 130-134 (1er étage):geo:0,0
END:VEVENT
BEGIN:VTIMEZONE
TZID:Europe/Paris
X-LIC-LOCATION:Europe/Paris
BEGIN:DAYLIGHT
DTSTART:20260329T030000
TZOFFSETFROM:+0100
TZOFFSETTO:+0200
TZNAME:CEST
END:DAYLIGHT
END:VTIMEZONE
END:VCALENDAR