BEGIN:VCALENDAR
VERSION:2.0
PRODID:-//wp-events-plugin.com//7.2.3.1//EN
TZID:Europe/Paris
X-WR-TIMEZONE:Europe/Paris
BEGIN:VEVENT
UID:4933@i2m.univ-amu.fr
DTSTART;TZID=Europe/Paris:20231026T110000
DTEND;TZID=Europe/Paris:20231026T120000
DTSTAMP:20240524T072506Z
URL:https://www.i2m.univ-amu.fr/evenements/groupes-de-coxeter-hyperbolique
 s/
SUMMARY: (...): Groupes de Coxeter hyperboliques
DESCRIPTION:: Je parlerai de deux résultats sur les groupes/polyèdres de 
 Coxeter dans les espaces hyperboliques : la construction (avec N. Bogachev
  et S. Douba) d'une infinité de polyèdres non-commensurables en dimensio
 ns 4 et 5\, et des résultats un peu plus vieux sur les limites géométri
 ques de ceux-ci et leurs applications.
CATEGORIES:Séminaire,Géométrie et Topologie de Marseille
LOCATION:I2M Saint-Charles - Salle de séminaire\, Université Aix-Marseill
 e\, Campus Saint-Charles\, 3 Place Victor Hugo\, Marseille\, 13003\, Franc
 e
X-APPLE-STRUCTURED-LOCATION;VALUE=URI;X-ADDRESS=Université Aix-Marseille\,
  Campus Saint-Charles\, 3 Place Victor Hugo\, Marseille\, 13003\, France;X
 -APPLE-RADIUS=100;X-TITLE=I2M Saint-Charles - Salle de séminaire:geo:0,0
END:VEVENT
BEGIN:VTIMEZONE
TZID:Europe/Paris
X-LIC-LOCATION:Europe/Paris
BEGIN:DAYLIGHT
DTSTART:20230326T030000
TZOFFSETFROM:+0100
TZOFFSETTO:+0200
TZNAME:CEST
END:DAYLIGHT
END:VTIMEZONE
END:VCALENDAR