BEGIN:VCALENDAR
VERSION:2.0
PRODID:-//wp-events-plugin.com//7.2.3.1//EN
TZID:Europe/Paris
X-WR-TIMEZONE:Europe/Paris
BEGIN:VEVENT
UID:5501@i2m.univ-amu.fr
DTSTART;TZID=Europe/Paris:20130411T140000
DTEND;TZID=Europe/Paris:20130411T150000
DTSTAMP:20241029T170708Z
URL:https://www.i2m.univ-amu.fr/evenements/h-omer-latp-estimation-of-frequ
 ency-modulations-on-wideband-signals-applications-to-audio-signal-analysis
 /
SUMMARY: (...): H. Omer (LATP): Estimation of frequency modulations on wide
 band signals\\\, applications to audio signal analysis
DESCRIPTION:: Estimation of frequency modulations on wideband signals\\\, a
 pplications to audio signal analysis\n\nBy Harold Omer\\\, LATP.\n\nAbstra
 ct:\nThe problem of joint estimation of power spectrum and modulation from
  realizations of frequency modulated stationary wideband signals is consid
 ered.\nThe study is motivated by some specific signal classes from which d
 epartures to stationarity can carry relevant information and has to be est
 imated.\nThe estimation procedure is based upon explicit modeling of the s
 ignal as a wideband stationary Gaussian process\\\, transformed by time-de
 pendent\\\, smooth frequency modulation. Under such assumptions\\\, an app
 roximate expression for the second order statistics of the transformed sig
 nal's Gabor transform is obtained\\\, which leads to an approximate maximu
 m likelihood estimation procedure.
CATEGORIES:Séminaire,Signal et Apprentissage
END:VEVENT
BEGIN:VTIMEZONE
TZID:Europe/Paris
X-LIC-LOCATION:Europe/Paris
BEGIN:DAYLIGHT
DTSTART:20130331T030000
TZOFFSETFROM:+0100
TZOFFSETTO:+0200
TZNAME:CEST
END:DAYLIGHT
END:VTIMEZONE
END:VCALENDAR