BEGIN:VCALENDAR
VERSION:2.0
PRODID:-//wp-events-plugin.com//7.2.3.1//EN
TZID:Europe/Paris
X-WR-TIMEZONE:Europe/Paris
BEGIN:VEVENT
UID:6786@i2m.univ-amu.fr
DTSTART;TZID=Europe/Paris:20200309T090000
DTEND;TZID=Europe/Paris:20200309T140000
DTSTAMP:20241209T193315Z
URL:https://www.i2m.univ-amu.fr/evenements/hamza-boukili-schemas-de-simula
 tion-dun-modele-a-trois-phases-immiscibles-pour-application-a-lexplosion-v
 apeur/
SUMMARY:Hamza Boukili (I2M\, Aix-Marseille Université): Schémas de simula
 tion d'un modèle à trois phases immiscibles pour application à l'explos
 ion vapeur
DESCRIPTION:Hamza Boukili: Hamza BOUKILI\, doctorant AA\, bourse CIFRE EDF.
 \n\nModeling and simulation of shock wave propagation in multiphase flows\
 n\nDirecteurs de thèse Jean Marc Hérard (EDF) et Jean Claude Latché (IR
 SN)\,\n\nDébut de thèse 1/12/2016\n\nInscrit à AMU/ED184 : https://coll
 ege-doctoral.univ-amu.fr/inscrit/9579\n\nhttp://www.theses.fr/s182558
ATTACH;FMTTYPE=image/jpeg:https://www.i2m.univ-amu.fr/wp-content/uploads/2
 020/03/Hamza_Boukili.jpg
CATEGORIES:Soutenance de thèse,Analyse Appliquée
LOCATION:Saint-Charles - FRUMAM  (2ème étage)\, 3 Place Victor Hugo\, Mar
 seille\, 13003\, France
X-APPLE-STRUCTURED-LOCATION;VALUE=URI;X-ADDRESS=3 Place Victor Hugo\, Marse
 ille\, 13003\, France;X-APPLE-RADIUS=100;X-TITLE=Saint-Charles - FRUMAM  (
 2ème étage):geo:0,0
END:VEVENT
BEGIN:VTIMEZONE
TZID:Europe/Paris
X-LIC-LOCATION:Europe/Paris
BEGIN:STANDARD
DTSTART:20191027T020000
TZOFFSETFROM:+0200
TZOFFSETTO:+0100
TZNAME:CET
END:STANDARD
END:VTIMEZONE
END:VCALENDAR