BEGIN:VCALENDAR
VERSION:2.0
PRODID:-//wp-events-plugin.com//7.2.3.1//EN
TZID:Europe/Paris
X-WR-TIMEZONE:Europe/Paris
BEGIN:VEVENT
UID:5645@i2m.univ-amu.fr
DTSTART;TZID=Europe/Paris:20230629T170000
DTEND;TZID=Europe/Paris:20230629T180000
DTSTAMP:20241124T135606Z
URL:https://www.i2m.univ-amu.fr/evenements/introduction-to-the-representat
 ion-theory-of-lie-groups/
SUMMARY: (...): Introduction to the representation theory of Lie groups
DESCRIPTION:: As the title says\, I wanted to do an introduction to the rep
 resentation theory of Lie groups. But I realized that this beautiful theor
 y turns around two central objects : the adjoint representation and Lie al
 gebras. Hence\, I decided to show you why these objects are actually relev
 ant and how they were constructed. This should be the first-ish half of th
 e talk. For the second part\, I'll try to introduce a bit of representatio
 n theory and we'll take a look at the example of SL(2\,C). \n\n\n\nLe sé
 minaire des doctorant⋅es de l'I2M et du CPT à Luminy regroupe chaque se
 maine les doctorant⋅es du site autour d'un exposé plus ou moins (in)for
 mel\, dans un cadre convivial. Il est évidemment ouvert aux étudiant⋅e
 s de master et aux doctorant⋅es d'autres laboratoires.\n\nC'est au rez-d
 e-chaussée du bâtiment de « l'ancienne BU »\, dans la salle « Sémina
 ire 2 » (au fond à gauche en sortant de l'escalier si vous venez de l'é
 tage\, au fond à droite si vous entrez par le rez-de-chaussée). Attentio
 n : l'entrée dans le labo nécessite un badge. En cas de souci (de type :
  être bloqué⋅e dehors)\, appeler le 04 91 26 95 91.
ATTACH;FMTTYPE=image/jpeg:https://www.i2m.univ-amu.fr/wp-content/uploads/2
 023/06/icon-maths4.png
CATEGORIES:Séminaire,Rencontres doctorant⋅es I2M-CPT
LOCATION:I2M Luminy - Ancienne BU\, Salle Séminaire2 (RdC)\, 163 Avenue de
  Luminy\, 13009 Marseille\, France\, 
X-APPLE-STRUCTURED-LOCATION;VALUE=URI;X-ADDRESS=163 Avenue de Luminy\, 1300
 9 Marseille\, France\, ;X-APPLE-RADIUS=100;X-TITLE=I2M Luminy - Ancienne B
 U\, Salle Séminaire2 (RdC):geo:0,0
END:VEVENT
BEGIN:VTIMEZONE
TZID:Europe/Paris
X-LIC-LOCATION:Europe/Paris
BEGIN:DAYLIGHT
DTSTART:20230326T030000
TZOFFSETFROM:+0100
TZOFFSETTO:+0200
TZNAME:CEST
END:DAYLIGHT
END:VTIMEZONE
END:VCALENDAR