BEGIN:VCALENDAR
VERSION:2.0
PRODID:-//wp-events-plugin.com//7.2.3.1//EN
TZID:Europe/Paris
X-WR-TIMEZONE:Europe/Paris
BEGIN:VEVENT
UID:2421@i2m.univ-amu.fr
DTSTART;TZID=Europe/Paris:20180628T110000
DTEND;TZID=Europe/Paris:20180628T123000
DTSTAMP:20201210T141224Z
URL:https://www.i2m.univ-amu.fr/evenements/joint-et-tranches-categoriques/
SUMMARY:Dimitri Ara (I2M\, Aix-Marseille Université): Joint et tranches 
 ∞-catégoriques
DESCRIPTION:Dimitri Ara: TBA
CATEGORIES:Séminaire,Logique et Interactions
END:VEVENT
BEGIN:VTIMEZONE
TZID:Europe/Paris
X-LIC-LOCATION:Europe/Paris
BEGIN:DAYLIGHT
DTSTART:20180325T030000
TZOFFSETFROM:+0100
TZOFFSETTO:+0200
TZNAME:CEST
END:DAYLIGHT
END:VTIMEZONE
END:VCALENDAR