BEGIN:VCALENDAR
VERSION:2.0
PRODID:-//wp-events-plugin.com//7.2.3.1//EN
TZID:Europe/Paris
X-WR-TIMEZONE:Europe/Paris
BEGIN:VEVENT
UID:2630@i2m.univ-amu.fr
DTSTART;TZID=Europe/Paris:20181211T143000
DTEND;TZID=Europe/Paris:20181211T153000
DTSTAMP:20181126T133000Z
URL:https://www.i2m.univ-amu.fr/evenements/jordan-totient-quotients/
SUMMARY: (...): Jordan totient quotients
DESCRIPTION:: À annoncerhttp://guests.mpim-bonn.mpg.de/alisasedunova/
END:VEVENT
BEGIN:VTIMEZONE
TZID:Europe/Paris
X-LIC-LOCATION:Europe/Paris
BEGIN:STANDARD
DTSTART:20181028T020000
TZOFFSETFROM:+0200
TZOFFSETTO:+0100
TZNAME:CET
END:STANDARD
END:VTIMEZONE
END:VCALENDAR