BEGIN:VCALENDAR
VERSION:2.0
PRODID:-//wp-events-plugin.com//7.2.3.1//EN
TZID:Europe/Paris
X-WR-TIMEZONE:Europe/Paris
BEGIN:VEVENT
UID:5828@i2m.univ-amu.fr
DTSTART;TZID=Europe/Paris;VALUE=DATE:20221213
DTEND;TZID=Europe/Paris;VALUE=DATE:20221214
DTSTAMP:20241120T200228Z
URL:https://www.i2m.univ-amu.fr/evenements/journee-thematique-hyperbo-2022
 -mecanique-des-fluides/
SUMMARY:Journée (FRUMAM\, St Charles\, Marseille): Journée thématique Hy
 perbo 2022 - Mécanique des fluides
DESCRIPTION:Journée: JOURNÉE\nCette journée thématique a pour but de pr
 ésenter des travaux récents de modélisation et d'analyse mathématique\
 , tant théorique que numérique\, autour de la mécanique des fluides. Ce
 tte rencontre s'inscrit dans le cadre du groupe de travail HYPERBO de l'I2
 M.\n\n\n\n\n\n\n\n\n\nTitres des exposés\n\n\n\nNoemi David (ICJ\, Lyon) 
 : TBA\nJean-Luc Guermond (Texas A&amp\;M University) : Invariant-domain pr
 eserving high-order implicit explicit time stepping for nonlinear conserva
 tion equations\nSamuel Kokh (CEA Saclay) : Une utilisation du principe de 
 Hamilton pour la dérivation de modèles diphasiques\nNicolas Seguin (INRI
 A\, Montpellier) : Stabilité de méthodes de différences finies pour l'
 équation de transport avec bord\n\n\n\n\n\n\n\n\n\n\n\n\n\n\n\n\n\n
ATTACH;FMTTYPE=image/jpeg:https://www.i2m.univ-amu.fr/wp-content/uploads/2
 022/11/image_journee_aa-doi.10.1007-s42286-022-00062-8-Fluid_mechanics-Wat
 er_waves-Guermond-Kees-Popov-Tovar-pic5.jpg
CATEGORIES:Journée(s),Manifestation scientifique
LOCATION:Saint-Charles - FRUMAM  (2ème étage)\, 3 Place Victor Hugo\, Mar
 seille\, 13003\, France
X-APPLE-STRUCTURED-LOCATION;VALUE=URI;X-ADDRESS=3 Place Victor Hugo\, Marse
 ille\, 13003\, France;X-APPLE-RADIUS=100;X-TITLE=Saint-Charles - FRUMAM  (
 2ème étage):geo:0,0
END:VEVENT
BEGIN:VTIMEZONE
TZID:Europe/Paris
X-LIC-LOCATION:Europe/Paris
BEGIN:STANDARD
DTSTART:20221030T020000
TZOFFSETFROM:+0200
TZOFFSETTO:+0100
TZNAME:CET
END:STANDARD
END:VTIMEZONE
END:VCALENDAR