BEGIN:VCALENDAR
VERSION:2.0
PRODID:-//wp-events-plugin.com//7.2.3.1//EN
TZID:Europe/Paris
X-WR-TIMEZONE:Europe/Paris
BEGIN:VEVENT
UID:7271@i2m.univ-amu.fr
DTSTART;TZID=Europe/Paris:20180628T100000
DTEND;TZID=Europe/Paris:20180628T153000
DTSTAMP:20241120T203854Z
URL:https://www.i2m.univ-amu.fr/evenements/journee-theorie-des-nombres/
SUMMARY:Journée (I2M\, Luminy\, Marseille): Théorie des Nombres
DESCRIPTION:Journée: JOURNÉE\nProgramme :\n-\n- 10h00 / 11h00 : Exposé d
 'Alessandro Zaccagnini (Università degli Studi di Parma)\nSums of four pr
 ime cubes in short interval\n-\n- 11h00 / 12h00 : Exposé d'Étienne Fouvr
 y (DMO\, Orsay)\nConvolution en déséquilibre (travail en commun avec M. 
 Radziwill)\n-\n- 14h00 / 15h00 : Soutenance de thèse de Nathalie Debouzy 
 (I2M-GDAC\, Aix-Marseille Université)\nNombres presque premiers jumeaux s
 ous une conjecture d'Elliott-Halberstam\n-\n- 15h30 / ... Pot\n-\nOrganisa
 teur :\n- Olivier Ramaré (I2M\, Aix-Marseille Université)\n\n-\nAccès A
 mphi Herbrand
ATTACH;FMTTYPE=image/jpeg:https://www.i2m.univ-amu.fr/wp-content/uploads/2
 018/06/image_gdac-prime_numbers-x300.jpg
CATEGORIES:Journée(s),Manifestation scientifique
LOCATION:I2M Luminy - TPR2\, Amphithéâtre Herbrand 130-134 (1er étage)\,
  163 Avenue de Luminy\, Marseille\, 13009\, France
X-APPLE-STRUCTURED-LOCATION;VALUE=URI;X-ADDRESS=163 Avenue de Luminy\, Mars
 eille\, 13009\, France;X-APPLE-RADIUS=100;X-TITLE=I2M Luminy - TPR2\, Amph
 ithéâtre Herbrand 130-134 (1er étage):geo:0,0
END:VEVENT
BEGIN:VTIMEZONE
TZID:Europe/Paris
X-LIC-LOCATION:Europe/Paris
BEGIN:DAYLIGHT
DTSTART:20180325T030000
TZOFFSETFROM:+0100
TZOFFSETTO:+0200
TZNAME:CEST
END:DAYLIGHT
END:VTIMEZONE
END:VCALENDAR