BEGIN:VCALENDAR
VERSION:2.0
PRODID:-//wp-events-plugin.com//7.2.3.1//EN
TZID:Europe/Paris
X-WR-TIMEZONE:Europe/Paris
BEGIN:VEVENT
UID:7438@i2m.univ-amu.fr
DTSTART;TZID=Europe/Paris:20171204T000000
DTEND;TZID=Europe/Paris:20171205T000000
DTSTAMP:20241120T203953Z
URL:https://www.i2m.univ-amu.fr/evenements/journees-danalyse-et-geometrie-
 complexes-en-lhonneur-de-bernard-coupet/
SUMMARY:Journée (I2M\, Château-Gombert\, Marseille): Journées d'Analyse 
 et Géométrie complexes en l'honneur de Bernard Coupet
DESCRIPTION:Journée: JOURNÉES en l'honneur de Bernard Coupet.\n-\n\nOrgan
 isateurs:\nAlexander Borichev\, Stéphane Rigat et El Hassan Youssfi avec 
 la collaboration de Léa Blanc-Centi et Hervé Gaussier.\nOn organise des 
 journées scientifiques autour de l'analyse et la géométrie complexe en 
 liaison avec la théorie des opérateurs. Le but de ces journées est de p
 résenter les nombreux développements que l'interaction entrel'analyse co
 mplexe\, la géométrie complexe et  la théorie des opérateurs a connu 
 ces dernières années. Les personnes invitées à ces journées sont des 
 experts d'analyse et géométrie complexe de plusieurs variables.\nSupport
  financier:\nUniversité Aix-Marseille\, I2M\, Groupe Analyse\, Géométri
 e\, Topologie\n\nLundi 4 décembre:\n\n10-10.55 Demni\, Laplaciens magneti
 ques\, lois quasi-infiniment divisibles et processus determinantaux polyan
 alytiques\n11-11.55 Kellay\, Etats atteignables de l'équation de la chale
 ur 1-D avec contrôle\n\n12.00-13.40 Buffet\n\n13.40-14.00 Detraz/représe
 ntant d'Université\n\n14-14.55 Merker\, Sur l'amplitude de fibrés cotang
 ents\n15-15.55 Sukhov\, Géométrie des applications holomorphes propres\n
 \n16.00-16.30 Café\n\n16.30-17.25 Blanc-Centi\, Théorie de Chern-Moser e
 n codimension supérieure\n\nMardi 5 décembre:\n10-10.55 Bertrand\, Disqu
 es stationnaires et hypersurfaces Levi-dégénérées\n11-11.55 Gaussier\,
  Energie des applications quasi-conformes\n\n&nbsp\;\n\nBernard COUPET : h
 ttp://www.researchgate.net/profile/Bernard_Coupet\n-\n\n-\n-Accès : CMI\n
 \n&nbsp\;
ATTACH;FMTTYPE=image/jpeg:https://www.i2m.univ-amu.fr/wp-content/uploads/2
 020/01/Bernard_Coupet.jpg
CATEGORIES:Séminaire,Analyse et Géométrie,Journée(s),Manifestation
 scientifique
LOCATION:I2M Chateau-Gombert - CMI\, 39 Rue Joliot Curie\, Marseille\, 1301
 3\, France
X-APPLE-STRUCTURED-LOCATION;VALUE=URI;X-ADDRESS=39 Rue Joliot Curie\, Marse
 ille\, 13013\, France;X-APPLE-RADIUS=100;X-TITLE=I2M Chateau-Gombert - CMI
 :geo:0,0
END:VEVENT
BEGIN:VTIMEZONE
TZID:Europe/Paris
X-LIC-LOCATION:Europe/Paris
BEGIN:STANDARD
DTSTART:20171029T020000
TZOFFSETFROM:+0200
TZOFFSETTO:+0100
TZNAME:CET
END:STANDARD
END:VTIMEZONE
END:VCALENDAR