BEGIN:VCALENDAR
VERSION:2.0
PRODID:-//wp-events-plugin.com//7.2.3.1//EN
TZID:Europe/Paris
X-WR-TIMEZONE:Europe/Paris
BEGIN:VEVENT
UID:993@i2m.univ-amu.fr
DTSTART;TZID=Europe/Paris:20151215T140000
DTEND;TZID=Europe/Paris:20151215T160000
DTSTAMP:20241210T142633Z
URL:https://www.i2m.univ-amu.fr/evenements/l-analyse-de-donnees-genomiques
 -et-l-annotation-a-l-heure-des-ngs-la-bioinformatique-2-0/
SUMMARY:Julien Paganini (I2M\, Aix-Marseille Université): L'analyse de don
 nées génomiques et l'annotation à l'heure des NGS : la Bioinformatique 
 2.0
DESCRIPTION:Julien Paganini: Les récents progrès technologiques en termes
  de séquençage de données génomiques ont entraîné une forte croissan
 ce des données disponibles et l'apparition de nouveaux besoins. Initialem
 ent limitée à l'analyse de petite quantité de données la bioinformatiq
 ue a dû s'adapter à ce nouveau contexte technologique et scientifique af
 in de répondre aux nouveaux challenges proposés. Par l'intermédiaire de
  différents projets réalisés dans des contextes différents\, cette th
 èse s'intègre dans ce changement contextuel où la bioinfomatique n'est 
 plus limitée à l'utilisation d'outil unitaire et d'étape humaine dépen
 dantes. Focalisés sur le développement de stratégies d'analyse complexe
 s pour le développement ou la mise à disposition d'outils entièrement a
 utomatisés et la production de données à haute valeur ajoutée\, ces tr
 avaux permettent de comprendre le rôle important de la bioinformatique 2.
 0. Ainsi nous montrerons comment elle doit être à même de répondre à 
 des objectifs précis par l'intermédiaire de stratégies intégrant les c
 oncepts de la biologie\, les outils bioinformatiques existants et l'expert
 ise scientifique associée au domaine. En conclusion\, nous discuterons du
  nouveau rôle et de l'impact futur de la bioinformatique 2.0 qui nécessi
 te une vision générale capable de s'adapter aux nouvelles données dispo
 nibles tant sur le plan biologique qu'informatique.\n*Membres du jury :\n-
  M. Pierre Abad - Directeur de Recherche\, INRA\n- M. Pierre-Édouard Four
 nier - Professeur\, Université d’Aix-Marseille\n- M. Pierre Pontarotti 
 - Professeur\, Université d’Aix-Marseille - Directeur de thèse\n- M. O
 livier Poch - Directeur de Recherche\, CNRS\n- M. Laurent Tichit - Maître
  de Conférences\, Université d’Aix-Marseille\n\nLien : theses.fr
CATEGORIES:Soutenance de thèse,Mathématiques-Évolution-Biologie
END:VEVENT
BEGIN:VTIMEZONE
TZID:Europe/Paris
X-LIC-LOCATION:Europe/Paris
BEGIN:STANDARD
DTSTART:20151025T020000
TZOFFSETFROM:+0200
TZOFFSETTO:+0100
TZNAME:CET
END:STANDARD
END:VTIMEZONE
END:VCALENDAR