BEGIN:VCALENDAR
VERSION:2.0
PRODID:-//wp-events-plugin.com//7.2.3.1//EN
TZID:Europe/Paris
X-WR-TIMEZONE:Europe/Paris
BEGIN:VEVENT
UID:6664@i2m.univ-amu.fr
DTSTART;TZID=Europe/Paris:20201012T133000
DTEND;TZID=Europe/Paris:20201012T180000
DTSTAMP:20241209T192646Z
URL:https://www.i2m.univ-amu.fr/evenements/le-travail-personnel-des-colleg
 iens-en-mathematiques-hors-classe-une-etude-didactique/
SUMMARY:Laure Guérin (I2M\, Aix-Marseille Université): Le travail personn
 el des collégiens en mathématiques hors classe. Une étude didactique
DESCRIPTION:Laure Guérin: Devant le jury composé de :\nPierre ARNOUX Univ
 ersité d’Aix-Marseille Examinateur\nHamid CHAACHOUA Université de Gren
 oble Alpes Rapporteur\nYves CHEVALLARD Université d’Aix-Marseille Invit
 é\nGhislaine GUEUDET Université de Bretagne Occidentale Rapporteur\nYves
  MATHERON IFé-ENS de Lyon Directeur de Thèse\nGérard SENSEVY Universit
 é de Bretagne Occidentale Examinateur\nFloriane WOZNIAK Université de Mo
 ntpellier Examinateur\nRésumé :\nCette thèse porte sur l’observation 
 et l’analyse des techniques personnelles et autonomes d’étude des mat
 hématiques par des élèves de collège.\nNous nous intéressons aux ress
 ources utilisées\, à la fonction qu’elles occupent et aux gestes de l
 ’étude que les élèves réalisent en dehors de la classe pour accompli
 r le travail scolaire qui leur est demandé par leurs professeurs ou qu’
 ils se donnent\, seuls ou avec l’aide d’une tierce personne\, afin d
 ’étudier les mathématiques. Ces ressources peuvent être matérielles\
 , numériques\, ou humaines. L’analyse de leur usage ne peut se faire sa
 ns prendre en considération à la fois ce qui est proposé à l’étude 
 en classe\, tant pour ce qui concerne les organisations mathématiques ens
 eignées que la forme didactique donnée à leur étude\, ni la traduction
  en acte de la dimension sociale de ce que les élèves\, leurs familles\,
  les aides diverses\, entendent par « étudier les mathématiques ». Soi
 t ce qui constitue une personne à travers ces divers assujettissements. C
 e qu’on peut désigner de malentendus relatifs au travail personnel\, du
  côté des élèves et des familles\, rejoint l’absence de connaissance
  sur ce qu’il devrait être chez les professeurs. Notre hypothèse consi
 ste à considérer les différentes positions d’élèves au regard de l
 ’institution : les bons\, les moyens et les faibles. Deux approches vien
 nent se compléter dans le dispositif d’enquête : une approche quantita
 tive par questionnaire et une approche qualitative à la fois par entretie
 ns et à partir de deux observations in vivo. La population questionnée c
 onstitue un échantillon représentatif de celle des collégiens d’Auver
 gne plus particulièrement au travail dans le moment de révision des cont
 rôles en mathématiques en tant que moment clef de l’étude personnelle
 .\nMots clés : geste de l’étude\, dialectique média milieu\, ressourc
 e\, situation possiblement didactique\n\nhttp://www.theses.fr/s153605
CATEGORIES:Soutenance de thèse,GDAC
LOCATION:Saint-Charles - FRUMAM  (2ème étage)\, 3 Place Victor Hugo\, Mar
 seille\, 13003\, France
X-APPLE-STRUCTURED-LOCATION;VALUE=URI;X-ADDRESS=3 Place Victor Hugo\, Marse
 ille\, 13003\, France;X-APPLE-RADIUS=100;X-TITLE=Saint-Charles - FRUMAM  (
 2ème étage):geo:0,0
END:VEVENT
BEGIN:VTIMEZONE
TZID:Europe/Paris
X-LIC-LOCATION:Europe/Paris
BEGIN:DAYLIGHT
DTSTART:20200329T030000
TZOFFSETFROM:+0100
TZOFFSETTO:+0200
TZNAME:CEST
END:DAYLIGHT
END:VTIMEZONE
END:VCALENDAR