BEGIN:VCALENDAR
VERSION:2.0
PRODID:-//wp-events-plugin.com//7.2.3.1//EN
TZID:Europe/Paris
X-WR-TIMEZONE:Europe/Paris
BEGIN:VEVENT
UID:9061@i2m.univ-amu.fr
DTSTART;TZID=Europe/Paris:20260403T160000
DTEND;TZID=Europe/Paris:20260403T170000
DTSTAMP:20260327T083526Z
URL:https://www.i2m.univ-amu.fr/evenements/les-diagrammes-de-heegaard-et-l
 a-sphere-de-poincare/
SUMMARY:Luisa Paoluzzi (I2M): Les diagrammes de Heegaard et la sphère de P
 oincaré
DESCRIPTION:Luisa Paoluzzi: À l'aube de la topologie de dimension 3\, insp
 iré par ce qui se passe avec les surfaces\, Poul Heegaard propose une mé
 thode pour décrire les 3-variétés dans l’espoir de pouvoir les classi
 fier. Je vous parlerai de sa thèse de 1898\, traduite en français en 191
 6. Je citerai quelques articles de Poincaré ainsi qu’un texte de Betti.
  
CATEGORIES:Séminaire,La Madeleine d'Euclide
LOCATION:Saint-Charles - FRUMAM  (2ème étage)\, 3 Place Victor Hugo\, Mar
 seille\, 13003\, France
X-APPLE-STRUCTURED-LOCATION;VALUE=URI;X-ADDRESS=3 Place Victor Hugo\, Marse
 ille\, 13003\, France;X-APPLE-RADIUS=100;X-TITLE=Saint-Charles - FRUMAM  (
 2ème étage):geo:0,0
END:VEVENT
BEGIN:VTIMEZONE
TZID:Europe/Paris
X-LIC-LOCATION:Europe/Paris
BEGIN:DAYLIGHT
DTSTART:20260329T030000
TZOFFSETFROM:+0100
TZOFFSETTO:+0200
TZNAME:CEST
END:DAYLIGHT
END:VTIMEZONE
END:VCALENDAR