BEGIN:VCALENDAR
VERSION:2.0
PRODID:-//wp-events-plugin.com//7.2.3.1//EN
TZID:Europe/Paris
X-WR-TIMEZONE:Europe/Paris
BEGIN:VEVENT
UID:8155@i2m.univ-amu.fr
DTSTART;TZID=Europe/Paris:20150223T000000
DTEND;TZID=Europe/Paris:20150227T000000
DTSTAMP:20241222T122428Z
URL:https://www.i2m.univ-amu.fr/evenements/local-and-global-invariants-of-
 singularities-thematic-month-2015/
SUMMARY: (...): Local and Global Invariants of Singularities (Thematic Mont
 h 2015)
DESCRIPTION:: **Mois Thématique : [Invariants locaux et globaux des singul
 arités (4ème semaine)*]\, “En l’honneur de Jean-Paul Brasselet à l
 ’occasion de son 70ème anniversaire”.\n-\nLa théorie des singularit
 és a de fortes interactions avec la géométrie algébrique et la topolog
 ie algébrique. L’étude des invariants locaux et globaux des morphismes
  et des espaces fournit des résultats importants dans ces trois domaines 
 ainsi que vers la physique théorique.\n-\nOrganisateurs :\n- Nicolas Dute
 rtre (I2M\, Marseille)\n- Anne Pichon (I2M\, Marseille)\n-\n\nSite web de 
 la 4ème rencontre\n-\nAutre lien : CIRM (programme des 5 semaines)
CATEGORIES:Colloque,Mois thématique
LOCATION:Luminy - CIRM\, 163 Avenue de Luminy\, Marseille\, 13009\, France
X-APPLE-STRUCTURED-LOCATION;VALUE=URI;X-ADDRESS=163 Avenue de Luminy\, Mars
 eille\, 13009\, France;X-APPLE-RADIUS=100;X-TITLE=Luminy - CIRM:geo:0,0
END:VEVENT
BEGIN:VTIMEZONE
TZID:Europe/Paris
X-LIC-LOCATION:Europe/Paris
BEGIN:STANDARD
DTSTART:20141026T020000
TZOFFSETFROM:+0200
TZOFFSETTO:+0100
TZNAME:CET
END:STANDARD
END:VTIMEZONE
END:VCALENDAR