BEGIN:VCALENDAR
VERSION:2.0
PRODID:-//wp-events-plugin.com//7.2.3.1//EN
TZID:Europe/Paris
X-WR-TIMEZONE:Europe/Paris
BEGIN:VEVENT
UID:6446@i2m.univ-amu.fr
DTSTART;TZID=Europe/Paris:20210415T160000
DTEND;TZID=Europe/Paris:20210415T180000
DTSTAMP:20241120T201435Z
URL:https://www.i2m.univ-amu.fr/evenements/local-kronecker-weber-zoe-yvon/
SUMMARY:Zoé Yvon (I2M\, Aix-Marseille Université): Local Kronecker-Weber
DESCRIPTION:Zoé Yvon: Local Kronecker-Weber (AZ) V.1\n\n\n\nRéférences :
 \nCorps Locaux by Jean-Pierre Serre (CL) and Algebraïsche Zahlentheorie b
 y Jurgen Neukirch (AZ)\n\n\n\n[su_spacer size="20"]\nSite web: https://si
 tes.google.com/view/samuele-anni/home/groupe-de-travail\n\nNotes et exerci
 ces : https://amubox.univ-amu.fr/s/QCT6zmPrzY8aMCD\n\n[su_spacer size="10
 "]\n\nJoin Zoom Meeting\nhttps://univ-amu-fr.zoom.us/j/94588287791?pwd=Slp
 6TllkbEswVEl5SGtrbVJxbFZkQT09\n\nMeeting ID: 945 8828 7791\nPasscode: voir
  mail\n[su_spacer size="20"]\n\n
CATEGORIES:Groupe de travail,Corps Locaux
LOCATION:I2M Luminy - TPR2\, Salle de Séminaire 304-306 (3ème étage)\, 1
 63 Avenue de Luminy\, Marseille\, 13009\, France
X-APPLE-STRUCTURED-LOCATION;VALUE=URI;X-ADDRESS=163 Avenue de Luminy\, Mars
 eille\, 13009\, France;X-APPLE-RADIUS=100;X-TITLE=I2M Luminy - TPR2\, Sall
 e de Séminaire 304-306 (3ème étage):geo:0,0
END:VEVENT
BEGIN:VTIMEZONE
TZID:Europe/Paris
X-LIC-LOCATION:Europe/Paris
BEGIN:DAYLIGHT
DTSTART:20210328T030000
TZOFFSETFROM:+0100
TZOFFSETTO:+0200
TZNAME:CEST
END:DAYLIGHT
END:VTIMEZONE
END:VCALENDAR